BEGIN:VCALENDAR
VERSION:2.0
PRODID:-//pinkstergemeentedeschone - ECPv6.15.20//NONSGML v1.0//EN
CALSCALE:GREGORIAN
METHOD:PUBLISH
X-ORIGINAL-URL:https://pinkstergemeentedeschone.nl
X-WR-CALDESC:Evenementen voor pinkstergemeentedeschone
REFRESH-INTERVAL;VALUE=DURATION:PT1H
X-Robots-Tag:noindex
X-PUBLISHED-TTL:PT1H
BEGIN:VTIMEZONE
TZID:UTC
BEGIN:STANDARD
TZOFFSETFROM:+0000
TZOFFSETTO:+0000
TZNAME:UTC
DTSTART:20250101T000000
END:STANDARD
END:VTIMEZONE
BEGIN:VEVENT
DTSTART;TZID=UTC:20260425T120000
DTEND;TZID=UTC:20260425T170000
DTSTAMP:20260425T120934
CREATED:20250521T165308Z
LAST-MODIFIED:20250521T165308Z
UID:2999-1777118400-1777136400@pinkstergemeentedeschone.nl
SUMMARY:Evangelisatie
DESCRIPTION:
URL:https://pinkstergemeentedeschone.nl/evenement/evangelisatie-5-4-2-2-2-2-2-2-2-3-2-2-2-2-2-2-2-2-2-2-2-2-2-2-2-2-2-2-2-2-2-2-2-2-2-2-2-2-3-2-2-2-2-2-2-2-2-2-2-2-2-2-2-2-2-2-2-2-2-2-2-2-2-2-2-2-2-2-2-2-2-3-2-2-2-2-2-2-2-2-2-2-2-2-2-2-2-2-2-2-2-2-61/
END:VEVENT
BEGIN:VEVENT
DTSTART;TZID=UTC:20260426T123000
DTEND;TZID=UTC:20260426T133000
DTSTAMP:20260425T120934
CREATED:20250521T162052Z
LAST-MODIFIED:20250521T162052Z
UID:2927-1777206600-1777210200@pinkstergemeentedeschone.nl
SUMMARY:Zondagsschooldienst
DESCRIPTION:
URL:https://pinkstergemeentedeschone.nl/evenement/zondagsschooldienst-5-2-2-2-2-2-2-2-2-2-2-2-2-2-2-2-2-2-2-2-2-2-2-2-2-2-2-2-2-2-2-2-2-2-2-2-2-2-2-2-2-2-2-2-2-2-2-2-2-2-2-2-2-2-2-2-2-2-2-2-2-2-2-2-2-2-2-2-2-2-2-7-2-2-2-2-2-2-2-2-2-2-2-2-2-2-2-2-2-95/
END:VEVENT
BEGIN:VEVENT
DTSTART;TZID=UTC:20260426T143000
DTEND;TZID=UTC:20260426T153000
DTSTAMP:20260425T120934
CREATED:20250521T164158Z
LAST-MODIFIED:20250521T164158Z
UID:2965-1777213800-1777217400@pinkstergemeentedeschone.nl
SUMMARY:Evangelische dienst
DESCRIPTION:
URL:https://pinkstergemeentedeschone.nl/evenement/evangelische-dienst-4-2-2-2-2-2-2-2-3-2-2-2-2-2-2-2-2-2-2-3-2-2-2-2-2-2-2-2-2-2-2-2-2-2-2-2-2-2-2-2-2-2-2-2-2-2-2-2-2-2-2-2-2-2-2-2-2-2-2-2-2-2-2-2-2-2-2-2-2-2-2-2-2-2-2-2-2-2-2-2-2-2-2-2-2-2-2-2-2-98/
END:VEVENT
BEGIN:VEVENT
DTSTART;TZID=UTC:20260427T200000
DTEND;TZID=UTC:20260427T213000
DTSTAMP:20260425T120934
CREATED:20250521T171455Z
LAST-MODIFIED:20250521T171455Z
UID:3073-1777320000-1777325400@pinkstergemeentedeschone.nl
SUMMARY:Bidstond
DESCRIPTION:
URL:https://pinkstergemeentedeschone.nl/evenement/bidstond-6-2-2-2-2-2-2-2-2-2-2-2-2-2-2-2-2-2-2-2-2-2-2-2-2-2-2-2-2-2-2-2-2-2-2-2-2-2-2-2-2-2-2-2-2-2-2-2-2-2-2-2-2-2-2-2-2-2-2-2-2-2-2-2-2-2-2-2-3-2-2-2-2-2-2-2-2-2-2-2-2-2-2-2-2-2-2-2-2-2-2-2-2-2-60/
END:VEVENT
END:VCALENDAR