BEGIN:VCALENDAR
VERSION:2.0
PRODID:-//pinkstergemeentedeschone - ECPv6.15.20//NONSGML v1.0//EN
CALSCALE:GREGORIAN
METHOD:PUBLISH
X-WR-CALNAME:pinkstergemeentedeschone
X-ORIGINAL-URL:https://pinkstergemeentedeschone.nl
X-WR-CALDESC:Evenementen voor pinkstergemeentedeschone
REFRESH-INTERVAL;VALUE=DURATION:PT1H
X-Robots-Tag:noindex
X-PUBLISHED-TTL:PT1H
BEGIN:VTIMEZONE
TZID:UTC
BEGIN:STANDARD
TZOFFSETFROM:+0000
TZOFFSETTO:+0000
TZNAME:UTC
DTSTART:20250101T000000
END:STANDARD
END:VTIMEZONE
BEGIN:VEVENT
DTSTART;TZID=UTC:20260710T193000
DTEND;TZID=UTC:20260710T210000
DTSTAMP:20260425T231342
CREATED:20250609T145759Z
LAST-MODIFIED:20250609T145759Z
UID:3606-1783711800-1783717200@pinkstergemeentedeschone.nl
SUMMARY:Bijbelstudie
DESCRIPTION:
URL:https://pinkstergemeentedeschone.nl/evenement/bijbelstudie-4-2-2-2-2-3-2-2-2-2-2-2-2-2-2-2-2-2-2-2-2-2-2-2-2-2-2-2-2-2-2-2-2-2-2-2-2-2-2-2-2-2-2-2-2-2-2-2-2-2-2-2-2-3-2-2-2-2-2-2-2-2-2-2-2-2-2-2-2-2-2-2-2-2-2-2-2-2-2-2-2-2-2-2-2-2-2-2-2-2-2-2-68/
END:VEVENT
BEGIN:VEVENT
DTSTART;TZID=UTC:20260711T120000
DTEND;TZID=UTC:20260711T170000
DTSTAMP:20260425T231342
CREATED:20250609T145254Z
LAST-MODIFIED:20250609T145254Z
UID:3600-1783771200-1783789200@pinkstergemeentedeschone.nl
SUMMARY:Evangelisatie
DESCRIPTION:
URL:https://pinkstergemeentedeschone.nl/evenement/evangelisatie-5-4-2-2-2-2-2-2-2-3-2-2-2-2-2-2-2-2-2-2-2-2-2-2-2-2-2-2-2-2-2-2-2-2-2-2-2-2-3-2-2-2-2-2-2-2-2-2-2-2-2-2-2-2-2-2-2-2-2-2-2-2-2-2-2-2-2-2-2-2-2-3-2-2-2-2-2-2-2-2-2-2-2-2-2-2-2-2-2-2-2-2-72/
END:VEVENT
BEGIN:VEVENT
DTSTART;TZID=UTC:20260712T123000
DTEND;TZID=UTC:20260712T133000
DTSTAMP:20260425T231342
CREATED:20250609T141751Z
LAST-MODIFIED:20250609T141751Z
UID:3586-1783859400-1783863000@pinkstergemeentedeschone.nl
SUMMARY:Zondagsschooldienst
DESCRIPTION:
URL:https://pinkstergemeentedeschone.nl/evenement/zondagsschooldienst-5-2-2-2-2-2-2-2-2-2-2-2-2-2-2-2-2-2-2-2-2-2-2-2-2-2-2-2-2-2-2-2-2-2-2-2-2-2-2-2-2-2-2-2-2-2-2-2-2-2-2-2-2-2-2-2-2-2-2-2-2-2-2-2-2-2-2-2-2-2-2-7-2-2-2-2-2-2-2-2-2-2-2-2-2-2-2-2-10-6/
END:VEVENT
BEGIN:VEVENT
DTSTART;TZID=UTC:20260712T143000
DTEND;TZID=UTC:20260712T153000
DTSTAMP:20260425T231342
CREATED:20250609T144626Z
LAST-MODIFIED:20250609T145039Z
UID:3594-1783866600-1783870200@pinkstergemeentedeschone.nl
SUMMARY:Evangelische dienst
DESCRIPTION:
URL:https://pinkstergemeentedeschone.nl/evenement/evangelische-dienst-4-2-2-2-2-2-2-2-3-2-2-2-2-2-2-2-2-2-2-3-2-2-2-2-2-2-2-2-2-2-2-2-2-2-2-2-2-2-2-2-2-2-2-2-2-2-2-2-2-2-2-2-2-2-2-2-2-2-2-2-2-2-2-2-2-2-2-2-2-2-2-2-2-2-2-2-2-2-2-2-2-2-2-2-2-2-2-2-1-10/
END:VEVENT
BEGIN:VEVENT
DTSTART;TZID=UTC:20260713T200000
DTEND;TZID=UTC:20260713T213000
DTSTAMP:20260425T231342
CREATED:20250609T150127Z
LAST-MODIFIED:20250609T150127Z
UID:3616-1783972800-1783978200@pinkstergemeentedeschone.nl
SUMMARY:Bidstond
DESCRIPTION:
URL:https://pinkstergemeentedeschone.nl/evenement/bidstond-6-2-2-2-2-2-2-2-2-2-2-2-2-2-2-2-2-2-2-2-2-2-2-2-2-2-2-2-2-2-2-2-2-2-2-2-2-2-2-2-2-2-2-2-2-2-2-2-2-2-2-2-2-2-2-2-2-2-2-2-2-2-2-2-2-2-2-2-3-2-2-2-2-2-2-2-2-2-2-2-2-2-2-2-2-2-2-2-2-2-2-2-2-2-63/
END:VEVENT
BEGIN:VEVENT
DTSTART;TZID=UTC:20260717T193000
DTEND;TZID=UTC:20260717T210000
DTSTAMP:20260425T231342
CREATED:20250609T145832Z
LAST-MODIFIED:20250609T145832Z
UID:3608-1784316600-1784322000@pinkstergemeentedeschone.nl
SUMMARY:Bijbelstudie
DESCRIPTION:
URL:https://pinkstergemeentedeschone.nl/evenement/bijbelstudie-4-2-2-2-2-3-2-2-2-2-2-2-2-2-2-2-2-2-2-2-2-2-2-2-2-2-2-2-2-2-2-2-2-2-2-2-2-2-2-2-2-2-2-2-2-2-2-2-2-2-2-2-2-3-2-2-2-2-2-2-2-2-2-2-2-2-2-2-2-2-2-2-2-2-2-2-2-2-2-2-2-2-2-2-2-2-2-2-2-2-2-2-69/
END:VEVENT
BEGIN:VEVENT
DTSTART;TZID=UTC:20260718T120000
DTEND;TZID=UTC:20260718T170000
DTSTAMP:20260425T231342
CREATED:20250609T145329Z
LAST-MODIFIED:20250609T145329Z
UID:3602-1784376000-1784394000@pinkstergemeentedeschone.nl
SUMMARY:Evangelisatie
DESCRIPTION:
URL:https://pinkstergemeentedeschone.nl/evenement/evangelisatie-5-4-2-2-2-2-2-2-2-3-2-2-2-2-2-2-2-2-2-2-2-2-2-2-2-2-2-2-2-2-2-2-2-2-2-2-2-2-3-2-2-2-2-2-2-2-2-2-2-2-2-2-2-2-2-2-2-2-2-2-2-2-2-2-2-2-2-2-2-2-2-3-2-2-2-2-2-2-2-2-2-2-2-2-2-2-2-2-2-2-2-2-73/
END:VEVENT
BEGIN:VEVENT
DTSTART;TZID=UTC:20260719T123000
DTEND;TZID=UTC:20260719T133000
DTSTAMP:20260425T231342
CREATED:20250609T141820Z
LAST-MODIFIED:20250609T141820Z
UID:3588-1784464200-1784467800@pinkstergemeentedeschone.nl
SUMMARY:Zondagsschooldienst
DESCRIPTION:
URL:https://pinkstergemeentedeschone.nl/evenement/zondagsschooldienst-5-2-2-2-2-2-2-2-2-2-2-2-2-2-2-2-2-2-2-2-2-2-2-2-2-2-2-2-2-2-2-2-2-2-2-2-2-2-2-2-2-2-2-2-2-2-2-2-2-2-2-2-2-2-2-2-2-2-2-2-2-2-2-2-2-2-2-2-2-2-2-7-2-2-2-2-2-2-2-2-2-2-2-2-2-2-2-2-10-7/
END:VEVENT
BEGIN:VEVENT
DTSTART;TZID=UTC:20260719T143000
DTEND;TZID=UTC:20260719T153000
DTSTAMP:20260425T231342
CREATED:20250609T144726Z
LAST-MODIFIED:20250609T145126Z
UID:3596-1784471400-1784475000@pinkstergemeentedeschone.nl
SUMMARY:Evangelische dienst
DESCRIPTION:
URL:https://pinkstergemeentedeschone.nl/evenement/evangelische-dienst-4-2-2-2-2-2-2-2-3-2-2-2-2-2-2-2-2-2-2-3-2-2-2-2-2-2-2-2-2-2-2-2-2-2-2-2-2-2-2-2-2-2-2-2-2-2-2-2-2-2-2-2-2-2-2-2-2-2-2-2-2-2-2-2-2-2-2-2-2-2-2-2-2-2-2-2-2-2-2-2-2-2-2-2-2-2-2-2-1-2/
END:VEVENT
BEGIN:VEVENT
DTSTART;TZID=UTC:20260720T200000
DTEND;TZID=UTC:20260720T213000
DTSTAMP:20260425T231342
CREATED:20250609T150229Z
LAST-MODIFIED:20250609T150229Z
UID:3618-1784577600-1784583000@pinkstergemeentedeschone.nl
SUMMARY:Bidstond
DESCRIPTION:
URL:https://pinkstergemeentedeschone.nl/evenement/bidstond-6-2-2-2-2-2-2-2-2-2-2-2-2-2-2-2-2-2-2-2-2-2-2-2-2-2-2-2-2-2-2-2-2-2-2-2-2-2-2-2-2-2-2-2-2-2-2-2-2-2-2-2-2-2-2-2-2-2-2-2-2-2-2-2-2-2-2-2-3-2-2-2-2-2-2-2-2-2-2-2-2-2-2-2-2-2-2-2-2-2-2-2-2-2-64/
END:VEVENT
BEGIN:VEVENT
DTSTART;TZID=UTC:20260724T193000
DTEND;TZID=UTC:20260724T210000
DTSTAMP:20260425T231342
CREATED:20250609T145926Z
LAST-MODIFIED:20250609T145926Z
UID:3610-1784921400-1784926800@pinkstergemeentedeschone.nl
SUMMARY:Bijbelstudie
DESCRIPTION:
URL:https://pinkstergemeentedeschone.nl/evenement/bijbelstudie-4-2-2-2-2-3-2-2-2-2-2-2-2-2-2-2-2-2-2-2-2-2-2-2-2-2-2-2-2-2-2-2-2-2-2-2-2-2-2-2-2-2-2-2-2-2-2-2-2-2-2-2-2-3-2-2-2-2-2-2-2-2-2-2-2-2-2-2-2-2-2-2-2-2-2-2-2-2-2-2-2-2-2-2-2-2-2-2-2-2-2-2-70/
END:VEVENT
BEGIN:VEVENT
DTSTART;TZID=UTC:20260725T120000
DTEND;TZID=UTC:20260725T170000
DTSTAMP:20260425T231342
CREATED:20250609T145409Z
LAST-MODIFIED:20250609T145409Z
UID:3604-1784980800-1784998800@pinkstergemeentedeschone.nl
SUMMARY:Evangelisatie
DESCRIPTION:
URL:https://pinkstergemeentedeschone.nl/evenement/evangelisatie-5-4-2-2-2-2-2-2-2-3-2-2-2-2-2-2-2-2-2-2-2-2-2-2-2-2-2-2-2-2-2-2-2-2-2-2-2-2-3-2-2-2-2-2-2-2-2-2-2-2-2-2-2-2-2-2-2-2-2-2-2-2-2-2-2-2-2-2-2-2-2-3-2-2-2-2-2-2-2-2-2-2-2-2-2-2-2-2-2-2-2-2-74/
END:VEVENT
BEGIN:VEVENT
DTSTART;TZID=UTC:20260726T123000
DTEND;TZID=UTC:20260726T133000
DTSTAMP:20260425T231342
CREATED:20250609T144428Z
LAST-MODIFIED:20250609T144428Z
UID:3590-1785069000-1785072600@pinkstergemeentedeschone.nl
SUMMARY:Zondagsschooldienst
DESCRIPTION:
URL:https://pinkstergemeentedeschone.nl/evenement/zondagsschooldienst-5-2-2-2-2-2-2-2-2-2-2-2-2-2-2-2-2-2-2-2-2-2-2-2-2-2-2-2-2-2-2-2-2-2-2-2-2-2-2-2-2-2-2-2-2-2-2-2-2-2-2-2-2-2-2-2-2-2-2-2-2-2-2-2-2-2-2-2-2-2-2-7-2-2-2-2-2-2-2-2-2-2-2-2-2-2-2-2-10-8/
END:VEVENT
BEGIN:VEVENT
DTSTART;TZID=UTC:20260726T143000
DTEND;TZID=UTC:20260726T153000
DTSTAMP:20260425T231342
CREATED:20250609T145155Z
LAST-MODIFIED:20250609T145155Z
UID:3598-1785076200-1785079800@pinkstergemeentedeschone.nl
SUMMARY:Evangelische dienst
DESCRIPTION:
URL:https://pinkstergemeentedeschone.nl/evenement/evangelische-dienst-4-2-2-2-2-2-2-2-3-2-2-2-2-2-2-2-2-2-2-3-2-2-2-2-2-2-2-2-2-2-2-2-2-2-2-2-2-2-2-2-2-2-2-2-2-2-2-2-2-2-2-2-2-2-2-2-2-2-2-2-2-2-2-2-2-2-2-2-2-2-2-2-2-2-2-2-2-2-2-2-2-2-2-2-2-2-2-2-1-3/
END:VEVENT
BEGIN:VEVENT
DTSTART;TZID=UTC:20260727T200000
DTEND;TZID=UTC:20260727T213000
DTSTAMP:20260425T231342
CREATED:20250609T150514Z
LAST-MODIFIED:20250609T150514Z
UID:3620-1785182400-1785187800@pinkstergemeentedeschone.nl
SUMMARY:Bidstond
DESCRIPTION:
URL:https://pinkstergemeentedeschone.nl/evenement/bidstond-6-2-2-2-2-2-2-2-2-2-2-2-2-2-2-2-2-2-2-2-2-2-2-2-2-2-2-2-2-2-2-2-2-2-2-2-2-2-2-2-2-2-2-2-2-2-2-2-2-2-2-2-2-2-2-2-2-2-2-2-2-2-2-2-2-2-2-2-3-2-2-2-2-2-2-2-2-2-2-2-2-2-2-2-2-2-2-2-2-2-2-2-2-2-65/
END:VEVENT
BEGIN:VEVENT
DTSTART;TZID=UTC:20260731T193000
DTEND;TZID=UTC:20260731T210000
DTSTAMP:20260425T231342
CREATED:20250609T145957Z
LAST-MODIFIED:20250609T145957Z
UID:3612-1785526200-1785531600@pinkstergemeentedeschone.nl
SUMMARY:Bijbelstudie
DESCRIPTION:
URL:https://pinkstergemeentedeschone.nl/evenement/bijbelstudie-4-2-2-2-2-3-2-2-2-2-2-2-2-2-2-2-2-2-2-2-2-2-2-2-2-2-2-2-2-2-2-2-2-2-2-2-2-2-2-2-2-2-2-2-2-2-2-2-2-2-2-2-2-3-2-2-2-2-2-2-2-2-2-2-2-2-2-2-2-2-2-2-2-2-2-2-2-2-2-2-2-2-2-2-2-2-2-2-2-2-2-2-7-2/
END:VEVENT
BEGIN:VEVENT
DTSTART;TZID=UTC:20261224T080000
DTEND;TZID=UTC:20261224T180000
DTSTAMP:20260425T231342
CREATED:20250529T095634Z
LAST-MODIFIED:20250529T095634Z
UID:3503-1798099200-1798135200@pinkstergemeentedeschone.nl
SUMMARY:Gezamenlijk vasten
DESCRIPTION:
URL:https://pinkstergemeentedeschone.nl/evenement/gezamenlijk-vasten-2-2-2-2/
END:VEVENT
BEGIN:VEVENT
DTSTART;TZID=UTC:20261231T180000
DTEND;TZID=UTC:20270101T120000
DTSTAMP:20260425T231342
CREATED:20250529T092619Z
LAST-MODIFIED:20250529T092619Z
UID:3483-1798740000-1798804800@pinkstergemeentedeschone.nl
SUMMARY:Nachtwake
DESCRIPTION:
URL:https://pinkstergemeentedeschone.nl/evenement/nachtwake-2-2-2/
END:VEVENT
BEGIN:VEVENT
DTSTART;TZID=UTC:20270519T180000
DTEND;TZID=UTC:20270520T120000
DTSTAMP:20260425T231342
CREATED:20250529T094343Z
LAST-MODIFIED:20250529T094343Z
UID:3493-1810749600-1810814400@pinkstergemeentedeschone.nl
SUMMARY:Nachtwake
DESCRIPTION:
URL:https://pinkstergemeentedeschone.nl/evenement/nachtwake-2-2-2-2-2-2-2-2/
END:VEVENT
BEGIN:VEVENT
DTSTART;TZID=UTC:20270531T080000
DTEND;TZID=UTC:20270531T170000
DTSTAMP:20260425T231342
CREATED:20250521T161504Z
LAST-MODIFIED:20250521T161529Z
UID:2905-1811750400-1811782800@pinkstergemeentedeschone.nl
SUMMARY:17-jarig jubileum Pinkstergemeente De Schone
DESCRIPTION:
URL:https://pinkstergemeentedeschone.nl/evenement/16-jarig-jubileum-pinkstergemeente-de-schone-2/
END:VEVENT
BEGIN:VEVENT
DTSTART;TZID=UTC:20270609T080000
DTEND;TZID=UTC:20270609T180000
DTSTAMP:20260425T231342
CREATED:20250529T100508Z
LAST-MODIFIED:20250529T100508Z
UID:3515-1812528000-1812564000@pinkstergemeentedeschone.nl
SUMMARY:Gezamenlijk vasten
DESCRIPTION:
URL:https://pinkstergemeentedeschone.nl/evenement/gezamenlijk-vasten-2-2-2-2-2-2-3-2-2/
END:VEVENT
BEGIN:VEVENT
DTSTART;TZID=UTC:20271224T080000
DTEND;TZID=UTC:20271224T180000
DTSTAMP:20260425T231342
CREATED:20250529T095724Z
LAST-MODIFIED:20250529T095724Z
UID:3505-1829635200-1829671200@pinkstergemeentedeschone.nl
SUMMARY:Gezamenlijk vasten
DESCRIPTION:
URL:https://pinkstergemeentedeschone.nl/evenement/gezamenlijk-vasten-2-2-2-2-2/
END:VEVENT
BEGIN:VEVENT
DTSTART;TZID=UTC:20280531T080000
DTEND;TZID=UTC:20280531T170000
DTSTAMP:20260425T231342
CREATED:20250521T161601Z
LAST-MODIFIED:20250521T161636Z
UID:2908-1843372800-1843405200@pinkstergemeentedeschone.nl
SUMMARY:18-jarig jubileum Pinkstergemeente De Schone
DESCRIPTION:
URL:https://pinkstergemeentedeschone.nl/evenement/16-jarig-jubileum-pinkstergemeente-de-schone-2-2/
END:VEVENT
END:VCALENDAR