BEGIN:VCALENDAR
VERSION:2.0
PRODID:-//pinkstergemeentedeschone - ECPv6.15.20//NONSGML v1.0//EN
CALSCALE:GREGORIAN
METHOD:PUBLISH
X-WR-CALNAME:pinkstergemeentedeschone
X-ORIGINAL-URL:https://pinkstergemeentedeschone.nl
X-WR-CALDESC:Evenementen voor pinkstergemeentedeschone
REFRESH-INTERVAL;VALUE=DURATION:PT1H
X-Robots-Tag:noindex
X-PUBLISHED-TTL:PT1H
BEGIN:VTIMEZONE
TZID:UTC
BEGIN:STANDARD
TZOFFSETFROM:+0000
TZOFFSETTO:+0000
TZNAME:UTC
DTSTART:20250101T000000
END:STANDARD
END:VTIMEZONE
BEGIN:VEVENT
DTSTART;TZID=UTC:20260321T120000
DTEND;TZID=UTC:20260321T170000
DTSTAMP:20260425T203857
CREATED:20250521T165001Z
LAST-MODIFIED:20250521T165001Z
UID:2989-1774094400-1774112400@pinkstergemeentedeschone.nl
SUMMARY:Evangelisatie
DESCRIPTION:
URL:https://pinkstergemeentedeschone.nl/evenement/evangelisatie-5-4-2-2-2-2-2-2-2-3-2-2-2-2-2-2-2-2-2-2-2-2-2-2-2-2-2-2-2-2-2-2-2-2-2-2-2-2-3-2-2-2-2-2-2-2-2-2-2-2-2-2-2-2-2-2-2-2-2-2-2-2-2-2-2-2-2-2-2-2-2-3-2-2-2-2-2-2-2-2-2-2-2-2-2-2-2-2-2-2-2-2-56/
END:VEVENT
BEGIN:VEVENT
DTSTART;TZID=UTC:20260320T193000
DTEND;TZID=UTC:20260320T210000
DTSTAMP:20260425T203857
CREATED:20250521T170001Z
LAST-MODIFIED:20250521T170001Z
UID:3025-1774035000-1774040400@pinkstergemeentedeschone.nl
SUMMARY:Bijbelstudie
DESCRIPTION:
URL:https://pinkstergemeentedeschone.nl/evenement/bijbelstudie-4-2-2-2-2-3-2-2-2-2-2-2-2-2-2-2-2-2-2-2-2-2-2-2-2-2-2-2-2-2-2-2-2-2-2-2-2-2-2-2-2-2-2-2-2-2-2-2-2-2-2-2-2-3-2-2-2-2-2-2-2-2-2-2-2-2-2-2-2-2-2-2-2-2-2-2-2-2-2-2-2-2-2-2-2-2-2-2-2-2-2-2-60/
END:VEVENT
BEGIN:VEVENT
DTSTART;TZID=UTC:20260316T200000
DTEND;TZID=UTC:20260316T213000
DTSTAMP:20260425T203857
CREATED:20250521T171135Z
LAST-MODIFIED:20250521T171135Z
UID:3061-1773691200-1773696600@pinkstergemeentedeschone.nl
SUMMARY:Bidstond
DESCRIPTION:
URL:https://pinkstergemeentedeschone.nl/evenement/bidstond-6-2-2-2-2-2-2-2-2-2-2-2-2-2-2-2-2-2-2-2-2-2-2-2-2-2-2-2-2-2-2-2-2-2-2-2-2-2-2-2-2-2-2-2-2-2-2-2-2-2-2-2-2-2-2-2-2-2-2-2-2-2-2-2-2-2-2-2-3-2-2-2-2-2-2-2-2-2-2-2-2-2-2-2-2-2-2-2-2-2-2-2-2-2-54/
END:VEVENT
BEGIN:VEVENT
DTSTART;TZID=UTC:20260315T143000
DTEND;TZID=UTC:20260315T153000
DTSTAMP:20260425T203857
CREATED:20250521T163825Z
LAST-MODIFIED:20250521T163825Z
UID:2951-1773585000-1773588600@pinkstergemeentedeschone.nl
SUMMARY:Evangelische dienst
DESCRIPTION:
URL:https://pinkstergemeentedeschone.nl/evenement/evangelische-dienst-4-2-2-2-2-2-2-2-3-2-2-2-2-2-2-2-2-2-2-3-2-2-2-2-2-2-2-2-2-2-2-2-2-2-2-2-2-2-2-2-2-2-2-2-2-2-2-2-2-2-2-2-2-2-2-2-2-2-2-2-2-2-2-2-2-2-2-2-2-2-2-2-2-2-2-2-2-2-2-2-2-2-2-2-2-2-2-2-2-92/
END:VEVENT
BEGIN:VEVENT
DTSTART;TZID=UTC:20260315T123000
DTEND;TZID=UTC:20260315T133000
DTSTAMP:20260425T203857
CREATED:20250521T161824Z
LAST-MODIFIED:20250521T161824Z
UID:2915-1773577800-1773581400@pinkstergemeentedeschone.nl
SUMMARY:Zondagsschooldienst
DESCRIPTION:
URL:https://pinkstergemeentedeschone.nl/evenement/zondagsschooldienst-5-2-2-2-2-2-2-2-2-2-2-2-2-2-2-2-2-2-2-2-2-2-2-2-2-2-2-2-2-2-2-2-2-2-2-2-2-2-2-2-2-2-2-2-2-2-2-2-2-2-2-2-2-2-2-2-2-2-2-2-2-2-2-2-2-2-2-2-2-2-2-7-2-2-2-2-2-2-2-2-2-2-2-2-2-2-2-2-2-89/
END:VEVENT
BEGIN:VEVENT
DTSTART;TZID=UTC:20260314T120000
DTEND;TZID=UTC:20260314T170000
DTSTAMP:20260425T203857
CREATED:20250521T164915Z
LAST-MODIFIED:20250521T164915Z
UID:2987-1773489600-1773507600@pinkstergemeentedeschone.nl
SUMMARY:Evangelisatie
DESCRIPTION:
URL:https://pinkstergemeentedeschone.nl/evenement/evangelisatie-5-4-2-2-2-2-2-2-2-3-2-2-2-2-2-2-2-2-2-2-2-2-2-2-2-2-2-2-2-2-2-2-2-2-2-2-2-2-3-2-2-2-2-2-2-2-2-2-2-2-2-2-2-2-2-2-2-2-2-2-2-2-2-2-2-2-2-2-2-2-2-3-2-2-2-2-2-2-2-2-2-2-2-2-2-2-2-2-2-2-2-2-55/
END:VEVENT
BEGIN:VEVENT
DTSTART;TZID=UTC:20260313T193000
DTEND;TZID=UTC:20260313T210000
DTSTAMP:20260425T203857
CREATED:20250521T165932Z
LAST-MODIFIED:20250521T165932Z
UID:3023-1773430200-1773435600@pinkstergemeentedeschone.nl
SUMMARY:Bijbelstudie
DESCRIPTION:
URL:https://pinkstergemeentedeschone.nl/evenement/bijbelstudie-4-2-2-2-2-3-2-2-2-2-2-2-2-2-2-2-2-2-2-2-2-2-2-2-2-2-2-2-2-2-2-2-2-2-2-2-2-2-2-2-2-2-2-2-2-2-2-2-2-2-2-2-2-3-2-2-2-2-2-2-2-2-2-2-2-2-2-2-2-2-2-2-2-2-2-2-2-2-2-2-2-2-2-2-2-2-2-2-2-2-2-2-59/
END:VEVENT
BEGIN:VEVENT
DTSTART;TZID=UTC:20260309T200000
DTEND;TZID=UTC:20260309T213000
DTSTAMP:20260425T203857
CREATED:20250521T171107Z
LAST-MODIFIED:20250521T171107Z
UID:3059-1773086400-1773091800@pinkstergemeentedeschone.nl
SUMMARY:Bidstond
DESCRIPTION:
URL:https://pinkstergemeentedeschone.nl/evenement/bidstond-6-2-2-2-2-2-2-2-2-2-2-2-2-2-2-2-2-2-2-2-2-2-2-2-2-2-2-2-2-2-2-2-2-2-2-2-2-2-2-2-2-2-2-2-2-2-2-2-2-2-2-2-2-2-2-2-2-2-2-2-2-2-2-2-2-2-2-2-3-2-2-2-2-2-2-2-2-2-2-2-2-2-2-2-2-2-2-2-2-2-2-2-2-2-53/
END:VEVENT
BEGIN:VEVENT
DTSTART;TZID=UTC:20260308T143000
DTEND;TZID=UTC:20260308T153000
DTSTAMP:20260425T203857
CREATED:20250521T163724Z
LAST-MODIFIED:20250521T163724Z
UID:2949-1772980200-1772983800@pinkstergemeentedeschone.nl
SUMMARY:Evangelische dienst
DESCRIPTION:
URL:https://pinkstergemeentedeschone.nl/evenement/evangelische-dienst-4-2-2-2-2-2-2-2-3-2-2-2-2-2-2-2-2-2-2-3-2-2-2-2-2-2-2-2-2-2-2-2-2-2-2-2-2-2-2-2-2-2-2-2-2-2-2-2-2-2-2-2-2-2-2-2-2-2-2-2-2-2-2-2-2-2-2-2-2-2-2-2-2-2-2-2-2-2-2-2-2-2-2-2-2-2-2-2-2-91/
END:VEVENT
BEGIN:VEVENT
DTSTART;TZID=UTC:20260308T123000
DTEND;TZID=UTC:20260308T133000
DTSTAMP:20260425T203857
CREATED:20250521T161801Z
LAST-MODIFIED:20250521T161801Z
UID:2913-1772973000-1772976600@pinkstergemeentedeschone.nl
SUMMARY:Zondagsschooldienst
DESCRIPTION:
URL:https://pinkstergemeentedeschone.nl/evenement/zondagsschooldienst-5-2-2-2-2-2-2-2-2-2-2-2-2-2-2-2-2-2-2-2-2-2-2-2-2-2-2-2-2-2-2-2-2-2-2-2-2-2-2-2-2-2-2-2-2-2-2-2-2-2-2-2-2-2-2-2-2-2-2-2-2-2-2-2-2-2-2-2-2-2-2-7-2-2-2-2-2-2-2-2-2-2-2-2-2-2-2-2-2-88/
END:VEVENT
BEGIN:VEVENT
DTSTART;TZID=UTC:20260307T120000
DTEND;TZID=UTC:20260307T170000
DTSTAMP:20260425T203857
CREATED:20250521T164836Z
LAST-MODIFIED:20250521T164836Z
UID:2985-1772884800-1772902800@pinkstergemeentedeschone.nl
SUMMARY:Evangelisatie
DESCRIPTION:
URL:https://pinkstergemeentedeschone.nl/evenement/evangelisatie-5-4-2-2-2-2-2-2-2-3-2-2-2-2-2-2-2-2-2-2-2-2-2-2-2-2-2-2-2-2-2-2-2-2-2-2-2-2-3-2-2-2-2-2-2-2-2-2-2-2-2-2-2-2-2-2-2-2-2-2-2-2-2-2-2-2-2-2-2-2-2-3-2-2-2-2-2-2-2-2-2-2-2-2-2-2-2-2-2-2-2-2-54/
END:VEVENT
BEGIN:VEVENT
DTSTART;TZID=UTC:20260306T193000
DTEND;TZID=UTC:20260306T210000
DTSTAMP:20260425T203857
CREATED:20250521T165902Z
LAST-MODIFIED:20250521T165902Z
UID:3021-1772825400-1772830800@pinkstergemeentedeschone.nl
SUMMARY:Bijbelstudie
DESCRIPTION:
URL:https://pinkstergemeentedeschone.nl/evenement/bijbelstudie-4-2-2-2-2-3-2-2-2-2-2-2-2-2-2-2-2-2-2-2-2-2-2-2-2-2-2-2-2-2-2-2-2-2-2-2-2-2-2-2-2-2-2-2-2-2-2-2-2-2-2-2-2-3-2-2-2-2-2-2-2-2-2-2-2-2-2-2-2-2-2-2-2-2-2-2-2-2-2-2-2-2-2-2-2-2-2-2-2-2-2-2-58/
END:VEVENT
BEGIN:VEVENT
DTSTART;TZID=UTC:20260306T193000
DTEND;TZID=UTC:20260306T210000
DTSTAMP:20260425T203857
CREATED:20250520T173335Z
LAST-MODIFIED:20250520T174153Z
UID:2869-1772825400-1772830800@pinkstergemeentedeschone.nl
SUMMARY:Bijbelstudie
DESCRIPTION:
URL:https://pinkstergemeentedeschone.nl/evenement/bijbelstudie-4-2-2-2-2-3-2-2-2-2-2-2-2-2-2-2-2-2-2-2-2-2-2-2-2-2-2-2-2-2-2-2-2-2-2-2-2-2-2-2-2-2-2-2-2-2-2-2-2-2-2-2-2-3-2-2-2-2-2-2-2-2-2-2-2-2-2-2-2-2-2-2-2-2-2-2-2-2-2-2-2-2-2-2-2-2-2-2-2-2-2-2-52/
END:VEVENT
BEGIN:VEVENT
DTSTART;TZID=UTC:20260302T200000
DTEND;TZID=UTC:20260302T213000
DTSTAMP:20260425T203857
CREATED:20250521T171023Z
LAST-MODIFIED:20250521T171023Z
UID:3057-1772481600-1772487000@pinkstergemeentedeschone.nl
SUMMARY:Bidstond
DESCRIPTION:
URL:https://pinkstergemeentedeschone.nl/evenement/bidstond-6-2-2-2-2-2-2-2-2-2-2-2-2-2-2-2-2-2-2-2-2-2-2-2-2-2-2-2-2-2-2-2-2-2-2-2-2-2-2-2-2-2-2-2-2-2-2-2-2-2-2-2-2-2-2-2-2-2-2-2-2-2-2-2-2-2-2-2-3-2-2-2-2-2-2-2-2-2-2-2-2-2-2-2-2-2-2-2-2-2-2-2-2-2-52/
END:VEVENT
BEGIN:VEVENT
DTSTART;TZID=UTC:20260301T143000
DTEND;TZID=UTC:20260301T153000
DTSTAMP:20260425T203857
CREATED:20250521T163657Z
LAST-MODIFIED:20250521T163657Z
UID:2947-1772375400-1772379000@pinkstergemeentedeschone.nl
SUMMARY:Evangelische dienst
DESCRIPTION:
URL:https://pinkstergemeentedeschone.nl/evenement/evangelische-dienst-4-2-2-2-2-2-2-2-3-2-2-2-2-2-2-2-2-2-2-3-2-2-2-2-2-2-2-2-2-2-2-2-2-2-2-2-2-2-2-2-2-2-2-2-2-2-2-2-2-2-2-2-2-2-2-2-2-2-2-2-2-2-2-2-2-2-2-2-2-2-2-2-2-2-2-2-2-2-2-2-2-2-2-2-2-2-2-2-2-90/
END:VEVENT
BEGIN:VEVENT
DTSTART;TZID=UTC:20260301T123000
DTEND;TZID=UTC:20260301T133000
DTSTAMP:20260425T203857
CREATED:20250521T161737Z
LAST-MODIFIED:20250521T161737Z
UID:2911-1772368200-1772371800@pinkstergemeentedeschone.nl
SUMMARY:Zondagsschooldienst
DESCRIPTION:
URL:https://pinkstergemeentedeschone.nl/evenement/zondagsschooldienst-5-2-2-2-2-2-2-2-2-2-2-2-2-2-2-2-2-2-2-2-2-2-2-2-2-2-2-2-2-2-2-2-2-2-2-2-2-2-2-2-2-2-2-2-2-2-2-2-2-2-2-2-2-2-2-2-2-2-2-2-2-2-2-2-2-2-2-2-2-2-2-7-2-2-2-2-2-2-2-2-2-2-2-2-2-2-2-2-2-87/
END:VEVENT
BEGIN:VEVENT
DTSTART;TZID=UTC:20260228T120000
DTEND;TZID=UTC:20260228T170000
DTSTAMP:20260425T203857
CREATED:20250520T174039Z
LAST-MODIFIED:20250520T174039Z
UID:2894-1772280000-1772298000@pinkstergemeentedeschone.nl
SUMMARY:Evangelisatie
DESCRIPTION:
URL:https://pinkstergemeentedeschone.nl/evenement/evangelisatie-5-4-2-2-2-2-2-2-2-3-2-2-2-2-2-2-2-2-2-2-2-2-2-2-2-2-2-2-2-2-2-2-2-2-2-2-2-2-3-2-2-2-2-2-2-2-2-2-2-2-2-2-2-2-2-2-2-2-2-2-2-2-2-2-2-2-2-2-2-2-2-3-2-2-2-2-2-2-2-2-2-2-2-2-2-2-2-2-2-2-2-2-53/
END:VEVENT
BEGIN:VEVENT
DTSTART;TZID=UTC:20260227T193000
DTEND;TZID=UTC:20260227T210000
DTSTAMP:20260425T203857
CREATED:20250520T173656Z
LAST-MODIFIED:20250520T173656Z
UID:2878-1772220600-1772226000@pinkstergemeentedeschone.nl
SUMMARY:Bijbelstudie
DESCRIPTION:
URL:https://pinkstergemeentedeschone.nl/evenement/bijbelstudie-4-2-2-2-2-3-2-2-2-2-2-2-2-2-2-2-2-2-2-2-2-2-2-2-2-2-2-2-2-2-2-2-2-2-2-2-2-2-2-2-2-2-2-2-2-2-2-2-2-2-2-2-2-3-2-2-2-2-2-2-2-2-2-2-2-2-2-2-2-2-2-2-2-2-2-2-2-2-2-2-2-2-2-2-2-2-2-2-2-2-2-2-57/
END:VEVENT
BEGIN:VEVENT
DTSTART;TZID=UTC:20260223T200000
DTEND;TZID=UTC:20260223T213000
DTSTAMP:20260425T203857
CREATED:20250520T172929Z
LAST-MODIFIED:20250520T172929Z
UID:2860-1771876800-1771882200@pinkstergemeentedeschone.nl
SUMMARY:Bidstond
DESCRIPTION:
URL:https://pinkstergemeentedeschone.nl/evenement/bidstond-6-2-2-2-2-2-2-2-2-2-2-2-2-2-2-2-2-2-2-2-2-2-2-2-2-2-2-2-2-2-2-2-2-2-2-2-2-2-2-2-2-2-2-2-2-2-2-2-2-2-2-2-2-2-2-2-2-2-2-2-2-2-2-2-2-2-2-2-3-2-2-2-2-2-2-2-2-2-2-2-2-2-2-2-2-2-2-2-2-2-2-2-2-2-51/
END:VEVENT
BEGIN:VEVENT
DTSTART;TZID=UTC:20260222T143000
DTEND;TZID=UTC:20260222T153000
DTSTAMP:20260425T203857
CREATED:20250520T172303Z
LAST-MODIFIED:20250520T172303Z
UID:2828-1771770600-1771774200@pinkstergemeentedeschone.nl
SUMMARY:Evangelische dienst
DESCRIPTION:
URL:https://pinkstergemeentedeschone.nl/evenement/evangelische-dienst-4-2-2-2-2-2-2-2-3-2-2-2-2-2-2-2-2-2-2-3-2-2-2-2-2-2-2-2-2-2-2-2-2-2-2-2-2-2-2-2-2-2-2-2-2-2-2-2-2-2-2-2-2-2-2-2-2-2-2-2-2-2-2-2-2-2-2-2-2-2-2-2-2-2-2-2-2-2-2-2-2-2-2-2-2-2-2-2-2-89/
END:VEVENT
BEGIN:VEVENT
DTSTART;TZID=UTC:20260222T123000
DTEND;TZID=UTC:20260222T133000
DTSTAMP:20260425T203857
CREATED:20250520T172608Z
LAST-MODIFIED:20250520T172608Z
UID:2844-1771763400-1771767000@pinkstergemeentedeschone.nl
SUMMARY:Zondagsschooldienst
DESCRIPTION:
URL:https://pinkstergemeentedeschone.nl/evenement/zondagsschooldienst-5-2-2-2-2-2-2-2-2-2-2-2-2-2-2-2-2-2-2-2-2-2-2-2-2-2-2-2-2-2-2-2-2-2-2-2-2-2-2-2-2-2-2-2-2-2-2-2-2-2-2-2-2-2-2-2-2-2-2-2-2-2-2-2-2-2-2-2-2-2-2-7-2-2-2-2-2-2-2-2-2-2-2-2-2-2-2-2-2-86/
END:VEVENT
BEGIN:VEVENT
DTSTART;TZID=UTC:20260221T120000
DTEND;TZID=UTC:20260221T170000
DTSTAMP:20260425T203857
CREATED:20250520T174013Z
LAST-MODIFIED:20250520T174013Z
UID:2892-1771675200-1771693200@pinkstergemeentedeschone.nl
SUMMARY:Evangelisatie
DESCRIPTION:
URL:https://pinkstergemeentedeschone.nl/evenement/evangelisatie-5-4-2-2-2-2-2-2-2-3-2-2-2-2-2-2-2-2-2-2-2-2-2-2-2-2-2-2-2-2-2-2-2-2-2-2-2-2-3-2-2-2-2-2-2-2-2-2-2-2-2-2-2-2-2-2-2-2-2-2-2-2-2-2-2-2-2-2-2-2-2-3-2-2-2-2-2-2-2-2-2-2-2-2-2-2-2-2-2-2-2-2-52/
END:VEVENT
BEGIN:VEVENT
DTSTART;TZID=UTC:20260220T193000
DTEND;TZID=UTC:20260220T210000
DTSTAMP:20260425T203857
CREATED:20250520T173627Z
LAST-MODIFIED:20250520T173627Z
UID:2876-1771615800-1771621200@pinkstergemeentedeschone.nl
SUMMARY:Bijbelstudie
DESCRIPTION:
URL:https://pinkstergemeentedeschone.nl/evenement/bijbelstudie-4-2-2-2-2-3-2-2-2-2-2-2-2-2-2-2-2-2-2-2-2-2-2-2-2-2-2-2-2-2-2-2-2-2-2-2-2-2-2-2-2-2-2-2-2-2-2-2-2-2-2-2-2-3-2-2-2-2-2-2-2-2-2-2-2-2-2-2-2-2-2-2-2-2-2-2-2-2-2-2-2-2-2-2-2-2-2-2-2-2-2-2-56/
END:VEVENT
BEGIN:VEVENT
DTSTART;TZID=UTC:20260216T200000
DTEND;TZID=UTC:20260216T213000
DTSTAMP:20260425T203857
CREATED:20250520T172909Z
LAST-MODIFIED:20250520T172909Z
UID:2858-1771272000-1771277400@pinkstergemeentedeschone.nl
SUMMARY:Bidstond
DESCRIPTION:
URL:https://pinkstergemeentedeschone.nl/evenement/bidstond-6-2-2-2-2-2-2-2-2-2-2-2-2-2-2-2-2-2-2-2-2-2-2-2-2-2-2-2-2-2-2-2-2-2-2-2-2-2-2-2-2-2-2-2-2-2-2-2-2-2-2-2-2-2-2-2-2-2-2-2-2-2-2-2-2-2-2-2-3-2-2-2-2-2-2-2-2-2-2-2-2-2-2-2-2-2-2-2-2-2-2-2-2-2-5-9/
END:VEVENT
BEGIN:VEVENT
DTSTART;TZID=UTC:20260215T143000
DTEND;TZID=UTC:20260215T153000
DTSTAMP:20260425T203857
CREATED:20250520T172243Z
LAST-MODIFIED:20250520T172243Z
UID:2826-1771165800-1771169400@pinkstergemeentedeschone.nl
SUMMARY:Evangelische dienst
DESCRIPTION:
URL:https://pinkstergemeentedeschone.nl/evenement/evangelische-dienst-4-2-2-2-2-2-2-2-3-2-2-2-2-2-2-2-2-2-2-3-2-2-2-2-2-2-2-2-2-2-2-2-2-2-2-2-2-2-2-2-2-2-2-2-2-2-2-2-2-2-2-2-2-2-2-2-2-2-2-2-2-2-2-2-2-2-2-2-2-2-2-2-2-2-2-2-2-2-2-2-2-2-2-2-2-2-2-2-2-88/
END:VEVENT
BEGIN:VEVENT
DTSTART;TZID=UTC:20260215T123000
DTEND;TZID=UTC:20260215T133000
DTSTAMP:20260425T203857
CREATED:20250520T172546Z
LAST-MODIFIED:20250520T172546Z
UID:2842-1771158600-1771162200@pinkstergemeentedeschone.nl
SUMMARY:Zondagsschooldienst
DESCRIPTION:
URL:https://pinkstergemeentedeschone.nl/evenement/zondagsschooldienst-5-2-2-2-2-2-2-2-2-2-2-2-2-2-2-2-2-2-2-2-2-2-2-2-2-2-2-2-2-2-2-2-2-2-2-2-2-2-2-2-2-2-2-2-2-2-2-2-2-2-2-2-2-2-2-2-2-2-2-2-2-2-2-2-2-2-2-2-2-2-2-7-2-2-2-2-2-2-2-2-2-2-2-2-2-2-2-2-2-85/
END:VEVENT
BEGIN:VEVENT
DTSTART;TZID=UTC:20260214T120000
DTEND;TZID=UTC:20260214T170000
DTSTAMP:20260425T203857
CREATED:20250520T173946Z
LAST-MODIFIED:20250520T173946Z
UID:2890-1771070400-1771088400@pinkstergemeentedeschone.nl
SUMMARY:Evangelisatie
DESCRIPTION:
URL:https://pinkstergemeentedeschone.nl/evenement/evangelisatie-5-4-2-2-2-2-2-2-2-3-2-2-2-2-2-2-2-2-2-2-2-2-2-2-2-2-2-2-2-2-2-2-2-2-2-2-2-2-3-2-2-2-2-2-2-2-2-2-2-2-2-2-2-2-2-2-2-2-2-2-2-2-2-2-2-2-2-2-2-2-2-3-2-2-2-2-2-2-2-2-2-2-2-2-2-2-2-2-2-2-2-2-51/
END:VEVENT
BEGIN:VEVENT
DTSTART;TZID=UTC:20260213T193000
DTEND;TZID=UTC:20260213T210000
DTSTAMP:20260425T203857
CREATED:20250520T173555Z
LAST-MODIFIED:20250520T173555Z
UID:2874-1771011000-1771016400@pinkstergemeentedeschone.nl
SUMMARY:Bijbelstudie
DESCRIPTION:
URL:https://pinkstergemeentedeschone.nl/evenement/bijbelstudie-4-2-2-2-2-3-2-2-2-2-2-2-2-2-2-2-2-2-2-2-2-2-2-2-2-2-2-2-2-2-2-2-2-2-2-2-2-2-2-2-2-2-2-2-2-2-2-2-2-2-2-2-2-3-2-2-2-2-2-2-2-2-2-2-2-2-2-2-2-2-2-2-2-2-2-2-2-2-2-2-2-2-2-2-2-2-2-2-2-2-2-2-55/
END:VEVENT
BEGIN:VEVENT
DTSTART;TZID=UTC:20260209T200000
DTEND;TZID=UTC:20260209T213000
DTSTAMP:20260425T203857
CREATED:20250520T172846Z
LAST-MODIFIED:20250520T172846Z
UID:2856-1770667200-1770672600@pinkstergemeentedeschone.nl
SUMMARY:Bidstond
DESCRIPTION:
URL:https://pinkstergemeentedeschone.nl/evenement/bidstond-6-2-2-2-2-2-2-2-2-2-2-2-2-2-2-2-2-2-2-2-2-2-2-2-2-2-2-2-2-2-2-2-2-2-2-2-2-2-2-2-2-2-2-2-2-2-2-2-2-2-2-2-2-2-2-2-2-2-2-2-2-2-2-2-2-2-2-2-3-2-2-2-2-2-2-2-2-2-2-2-2-2-2-2-2-2-2-2-2-2-2-2-2-2-5-8/
END:VEVENT
BEGIN:VEVENT
DTSTART;TZID=UTC:20260208T143000
DTEND;TZID=UTC:20260208T153000
DTSTAMP:20260425T203857
CREATED:20250520T172222Z
LAST-MODIFIED:20250520T172222Z
UID:2824-1770561000-1770564600@pinkstergemeentedeschone.nl
SUMMARY:Evangelische dienst
DESCRIPTION:
URL:https://pinkstergemeentedeschone.nl/evenement/evangelische-dienst-4-2-2-2-2-2-2-2-3-2-2-2-2-2-2-2-2-2-2-3-2-2-2-2-2-2-2-2-2-2-2-2-2-2-2-2-2-2-2-2-2-2-2-2-2-2-2-2-2-2-2-2-2-2-2-2-2-2-2-2-2-2-2-2-2-2-2-2-2-2-2-2-2-2-2-2-2-2-2-2-2-2-2-2-2-2-2-2-2-87/
END:VEVENT
END:VCALENDAR