BEGIN:VCALENDAR
VERSION:2.0
PRODID:-//pinkstergemeentedeschone - ECPv6.15.20//NONSGML v1.0//EN
CALSCALE:GREGORIAN
METHOD:PUBLISH
X-WR-CALNAME:pinkstergemeentedeschone
X-ORIGINAL-URL:https://pinkstergemeentedeschone.nl
X-WR-CALDESC:Evenementen voor pinkstergemeentedeschone
REFRESH-INTERVAL;VALUE=DURATION:PT1H
X-Robots-Tag:noindex
X-PUBLISHED-TTL:PT1H
BEGIN:VTIMEZONE
TZID:UTC
BEGIN:STANDARD
TZOFFSETFROM:+0000
TZOFFSETTO:+0000
TZNAME:UTC
DTSTART:20250101T000000
END:STANDARD
END:VTIMEZONE
BEGIN:VEVENT
DTSTART;TZID=UTC:20261231T180000
DTEND;TZID=UTC:20270101T120000
DTSTAMP:20260426T031955
CREATED:20250529T092619Z
LAST-MODIFIED:20250529T092619Z
UID:3483-1798740000-1798804800@pinkstergemeentedeschone.nl
SUMMARY:Nachtwake
DESCRIPTION:
URL:https://pinkstergemeentedeschone.nl/evenement/nachtwake-2-2-2/
END:VEVENT
BEGIN:VEVENT
DTSTART;TZID=UTC:20270519T180000
DTEND;TZID=UTC:20270520T120000
DTSTAMP:20260426T031955
CREATED:20250529T094343Z
LAST-MODIFIED:20250529T094343Z
UID:3493-1810749600-1810814400@pinkstergemeentedeschone.nl
SUMMARY:Nachtwake
DESCRIPTION:
URL:https://pinkstergemeentedeschone.nl/evenement/nachtwake-2-2-2-2-2-2-2-2/
END:VEVENT
BEGIN:VEVENT
DTSTART;TZID=UTC:20270531T080000
DTEND;TZID=UTC:20270531T170000
DTSTAMP:20260426T031955
CREATED:20250521T161504Z
LAST-MODIFIED:20250521T161529Z
UID:2905-1811750400-1811782800@pinkstergemeentedeschone.nl
SUMMARY:17-jarig jubileum Pinkstergemeente De Schone
DESCRIPTION:
URL:https://pinkstergemeentedeschone.nl/evenement/16-jarig-jubileum-pinkstergemeente-de-schone-2/
END:VEVENT
BEGIN:VEVENT
DTSTART;TZID=UTC:20270609T080000
DTEND;TZID=UTC:20270609T180000
DTSTAMP:20260426T031955
CREATED:20250529T100508Z
LAST-MODIFIED:20250529T100508Z
UID:3515-1812528000-1812564000@pinkstergemeentedeschone.nl
SUMMARY:Gezamenlijk vasten
DESCRIPTION:
URL:https://pinkstergemeentedeschone.nl/evenement/gezamenlijk-vasten-2-2-2-2-2-2-3-2-2/
END:VEVENT
BEGIN:VEVENT
DTSTART;TZID=UTC:20271224T080000
DTEND;TZID=UTC:20271224T180000
DTSTAMP:20260426T031955
CREATED:20250529T095724Z
LAST-MODIFIED:20250529T095724Z
UID:3505-1829635200-1829671200@pinkstergemeentedeschone.nl
SUMMARY:Gezamenlijk vasten
DESCRIPTION:
URL:https://pinkstergemeentedeschone.nl/evenement/gezamenlijk-vasten-2-2-2-2-2/
END:VEVENT
BEGIN:VEVENT
DTSTART;TZID=UTC:20280531T080000
DTEND;TZID=UTC:20280531T170000
DTSTAMP:20260426T031955
CREATED:20250521T161601Z
LAST-MODIFIED:20250521T161636Z
UID:2908-1843372800-1843405200@pinkstergemeentedeschone.nl
SUMMARY:18-jarig jubileum Pinkstergemeente De Schone
DESCRIPTION:
URL:https://pinkstergemeentedeschone.nl/evenement/16-jarig-jubileum-pinkstergemeente-de-schone-2-2/
END:VEVENT
END:VCALENDAR