BEGIN:VCALENDAR
VERSION:2.0
PRODID:-//pinkstergemeentedeschone - ECPv6.15.20//NONSGML v1.0//EN
CALSCALE:GREGORIAN
METHOD:PUBLISH
X-WR-CALNAME:pinkstergemeentedeschone
X-ORIGINAL-URL:https://pinkstergemeentedeschone.nl
X-WR-CALDESC:Evenementen voor pinkstergemeentedeschone
REFRESH-INTERVAL;VALUE=DURATION:PT1H
X-Robots-Tag:noindex
X-PUBLISHED-TTL:PT1H
BEGIN:VTIMEZONE
TZID:UTC
BEGIN:STANDARD
TZOFFSETFROM:+0000
TZOFFSETTO:+0000
TZNAME:UTC
DTSTART:20240101T000000
END:STANDARD
END:VTIMEZONE
BEGIN:VEVENT
DTSTART;TZID=UTC:20251219T193000
DTEND;TZID=UTC:20251219T210000
DTSTAMP:20260426T034715
CREATED:20250519T141005Z
LAST-MODIFIED:20250519T141006Z
UID:2776-1766172600-1766178000@pinkstergemeentedeschone.nl
SUMMARY:Bijbelstudie
DESCRIPTION:
URL:https://pinkstergemeentedeschone.nl/evenement/bijbelstudie-4-2-2-2-2-3-2-2-2-2-2-2-2-2-2-2-2-2-2-2-2-2-2-2-2-2-2-2-2-2-2-2-2-2-2-2-2-2-2-2-2-2-2-2-2-2-2-2-2-2-2-2-2-3-2-2-2-2-2-2-2-2-2-2-2-2-2-2-2-2-2-2-2-2-2-2-2-2-2-2-2-2-2-2-2-2-2-2-2-2-2-2-5-6/
END:VEVENT
BEGIN:VEVENT
DTSTART;TZID=UTC:20251220T120000
DTEND;TZID=UTC:20251220T170000
DTSTAMP:20260426T034715
CREATED:20250519T134844Z
LAST-MODIFIED:20250519T134844Z
UID:2740-1766232000-1766250000@pinkstergemeentedeschone.nl
SUMMARY:Evangelisatie
DESCRIPTION:
URL:https://pinkstergemeentedeschone.nl/evenement/evangelisatie-5-4-2-2-2-2-2-2-2-3-2-2-2-2-2-2-2-2-2-2-2-2-2-2-2-2-2-2-2-2-2-2-2-2-2-2-2-2-3-2-2-2-2-2-2-2-2-2-2-2-2-2-2-2-2-2-2-2-2-2-2-2-2-2-2-2-2-2-2-2-2-3-2-2-2-2-2-2-2-2-2-2-2-2-2-2-2-2-2-2-2-2-43/
END:VEVENT
BEGIN:VEVENT
DTSTART;TZID=UTC:20251221T123000
DTEND;TZID=UTC:20251221T133000
DTSTAMP:20260426T034715
CREATED:20250519T132748Z
LAST-MODIFIED:20250519T132748Z
UID:2704-1766320200-1766323800@pinkstergemeentedeschone.nl
SUMMARY:Zondagsschooldienst
DESCRIPTION:
URL:https://pinkstergemeentedeschone.nl/evenement/zondagsschooldienst-5-2-2-2-2-2-2-2-2-2-2-2-2-2-2-2-2-2-2-2-2-2-2-2-2-2-2-2-2-2-2-2-2-2-2-2-2-2-2-2-2-2-2-2-2-2-2-2-2-2-2-2-2-2-2-2-2-2-2-2-2-2-2-2-2-2-2-2-2-2-2-7-2-2-2-2-2-2-2-2-2-2-2-2-2-2-2-2-2-77/
END:VEVENT
BEGIN:VEVENT
DTSTART;TZID=UTC:20251221T143000
DTEND;TZID=UTC:20251221T153000
DTSTAMP:20260426T034715
CREATED:20250519T131722Z
LAST-MODIFIED:20250519T131722Z
UID:2670-1766327400-1766331000@pinkstergemeentedeschone.nl
SUMMARY:Evangelische dienst
DESCRIPTION:
URL:https://pinkstergemeentedeschone.nl/evenement/evangelische-dienst-4-2-2-2-2-2-2-2-3-2-2-2-2-2-2-2-2-2-2-3-2-2-2-2-2-2-2-2-2-2-2-2-2-2-2-2-2-2-2-2-2-2-2-2-2-2-2-2-2-2-2-2-2-2-2-2-2-2-2-2-2-2-2-2-2-2-2-2-2-2-2-2-2-2-2-2-2-2-2-2-2-2-2-2-2-2-2-2-2-80/
END:VEVENT
BEGIN:VEVENT
DTSTART;TZID=UTC:20251222T200000
DTEND;TZID=UTC:20251222T213000
DTSTAMP:20260426T034715
CREATED:20250519T142221Z
LAST-MODIFIED:20250519T142221Z
UID:2812-1766433600-1766439000@pinkstergemeentedeschone.nl
SUMMARY:Bidstond
DESCRIPTION:
URL:https://pinkstergemeentedeschone.nl/evenement/bidstond-6-2-2-2-2-2-2-2-2-2-2-2-2-2-2-2-2-2-2-2-2-2-2-2-2-2-2-2-2-2-2-2-2-2-2-2-2-2-2-2-2-2-2-2-2-2-2-2-2-2-2-2-2-2-2-2-2-2-2-2-2-2-2-2-2-2-2-2-3-2-2-2-2-2-2-2-2-2-2-2-2-2-2-2-2-2-2-2-2-2-2-2-2-2-50/
END:VEVENT
BEGIN:VEVENT
DTSTART;TZID=UTC:20251224T080000
DTEND;TZID=UTC:20251224T180000
DTSTAMP:20260426T034715
CREATED:20250529T095539Z
LAST-MODIFIED:20250529T095539Z
UID:3501-1766563200-1766599200@pinkstergemeentedeschone.nl
SUMMARY:Gezamenlijk vasten
DESCRIPTION:
URL:https://pinkstergemeentedeschone.nl/evenement/gezamenlijk-vasten-2-2-2/
END:VEVENT
BEGIN:VEVENT
DTSTART;TZID=UTC:20251227T120000
DTEND;TZID=UTC:20251227T170000
DTSTAMP:20260426T034715
CREATED:20250519T134924Z
LAST-MODIFIED:20250519T134924Z
UID:2742-1766836800-1766854800@pinkstergemeentedeschone.nl
SUMMARY:Evangelisatie
DESCRIPTION:
URL:https://pinkstergemeentedeschone.nl/evenement/evangelisatie-5-4-2-2-2-2-2-2-2-3-2-2-2-2-2-2-2-2-2-2-2-2-2-2-2-2-2-2-2-2-2-2-2-2-2-2-2-2-3-2-2-2-2-2-2-2-2-2-2-2-2-2-2-2-2-2-2-2-2-2-2-2-2-2-2-2-2-2-2-2-2-3-2-2-2-2-2-2-2-2-2-2-2-2-2-2-2-2-2-2-2-2-44/
END:VEVENT
BEGIN:VEVENT
DTSTART;TZID=UTC:20251228T123000
DTEND;TZID=UTC:20251228T133000
DTSTAMP:20260426T034715
CREATED:20250519T132827Z
LAST-MODIFIED:20250519T132827Z
UID:2706-1766925000-1766928600@pinkstergemeentedeschone.nl
SUMMARY:Zondagsschooldienst
DESCRIPTION:
URL:https://pinkstergemeentedeschone.nl/evenement/zondagsschooldienst-5-2-2-2-2-2-2-2-2-2-2-2-2-2-2-2-2-2-2-2-2-2-2-2-2-2-2-2-2-2-2-2-2-2-2-2-2-2-2-2-2-2-2-2-2-2-2-2-2-2-2-2-2-2-2-2-2-2-2-2-2-2-2-2-2-2-2-2-2-2-2-7-2-2-2-2-2-2-2-2-2-2-2-2-2-2-2-2-2-78/
END:VEVENT
BEGIN:VEVENT
DTSTART;TZID=UTC:20251228T143000
DTEND;TZID=UTC:20251228T153000
DTSTAMP:20260426T034715
CREATED:20250519T131746Z
LAST-MODIFIED:20250519T131746Z
UID:2672-1766932200-1766935800@pinkstergemeentedeschone.nl
SUMMARY:Evangelische dienst
DESCRIPTION:
URL:https://pinkstergemeentedeschone.nl/evenement/evangelische-dienst-4-2-2-2-2-2-2-2-3-2-2-2-2-2-2-2-2-2-2-3-2-2-2-2-2-2-2-2-2-2-2-2-2-2-2-2-2-2-2-2-2-2-2-2-2-2-2-2-2-2-2-2-2-2-2-2-2-2-2-2-2-2-2-2-2-2-2-2-2-2-2-2-2-2-2-2-2-2-2-2-2-2-2-2-2-2-2-2-2-81/
END:VEVENT
BEGIN:VEVENT
DTSTART;TZID=UTC:20251229T200000
DTEND;TZID=UTC:20251229T213000
DTSTAMP:20260426T034715
CREATED:20250519T142256Z
LAST-MODIFIED:20250519T142256Z
UID:2814-1767038400-1767043800@pinkstergemeentedeschone.nl
SUMMARY:Bidstond
DESCRIPTION:
URL:https://pinkstergemeentedeschone.nl/evenement/bidstond-6-2-2-2-2-2-2-2-2-2-2-2-2-2-2-2-2-2-2-2-2-2-2-2-2-2-2-2-2-2-2-2-2-2-2-2-2-2-2-2-2-2-2-2-2-2-2-2-2-2-2-2-2-2-2-2-2-2-2-2-2-2-2-2-2-2-2-2-3-2-2-2-2-2-2-2-2-2-2-2-2-2-2-2-2-2-2-2-2-2-2-2-2-2-5-2/
END:VEVENT
BEGIN:VEVENT
DTSTART;TZID=UTC:20251231T180000
DTEND;TZID=UTC:20260101T120000
DTSTAMP:20260426T034715
CREATED:20250529T092413Z
LAST-MODIFIED:20250529T092506Z
UID:3481-1767204000-1767268800@pinkstergemeentedeschone.nl
SUMMARY:Nachtwake
DESCRIPTION:
URL:https://pinkstergemeentedeschone.nl/evenement/nachtwake-2-2/
END:VEVENT
BEGIN:VEVENT
DTSTART;TZID=UTC:20260102T193000
DTEND;TZID=UTC:20260102T210000
DTSTAMP:20260426T034715
CREATED:20250519T141045Z
LAST-MODIFIED:20250519T141045Z
UID:2778-1767382200-1767387600@pinkstergemeentedeschone.nl
SUMMARY:Bijbelstudie
DESCRIPTION:
URL:https://pinkstergemeentedeschone.nl/evenement/bijbelstudie-4-2-2-2-2-3-2-2-2-2-2-2-2-2-2-2-2-2-2-2-2-2-2-2-2-2-2-2-2-2-2-2-2-2-2-2-2-2-2-2-2-2-2-2-2-2-2-2-2-2-2-2-2-3-2-2-2-2-2-2-2-2-2-2-2-2-2-2-2-2-2-2-2-2-2-2-2-2-2-2-2-2-2-2-2-2-2-2-2-2-2-2-5-7/
END:VEVENT
BEGIN:VEVENT
DTSTART;TZID=UTC:20260103T120000
DTEND;TZID=UTC:20260103T170000
DTSTAMP:20260426T034715
CREATED:20250519T135008Z
LAST-MODIFIED:20250519T135008Z
UID:2744-1767441600-1767459600@pinkstergemeentedeschone.nl
SUMMARY:Evangelisatie
DESCRIPTION:
URL:https://pinkstergemeentedeschone.nl/evenement/evangelisatie-5-4-2-2-2-2-2-2-2-3-2-2-2-2-2-2-2-2-2-2-2-2-2-2-2-2-2-2-2-2-2-2-2-2-2-2-2-2-3-2-2-2-2-2-2-2-2-2-2-2-2-2-2-2-2-2-2-2-2-2-2-2-2-2-2-2-2-2-2-2-2-3-2-2-2-2-2-2-2-2-2-2-2-2-2-2-2-2-2-2-2-2-45/
END:VEVENT
BEGIN:VEVENT
DTSTART;TZID=UTC:20260104T123000
DTEND;TZID=UTC:20260104T133000
DTSTAMP:20260426T034715
CREATED:20250520T172331Z
LAST-MODIFIED:20250520T172331Z
UID:2830-1767529800-1767533400@pinkstergemeentedeschone.nl
SUMMARY:Zondagsschooldienst
DESCRIPTION:
URL:https://pinkstergemeentedeschone.nl/evenement/zondagsschooldienst-5-2-2-2-2-2-2-2-2-2-2-2-2-2-2-2-2-2-2-2-2-2-2-2-2-2-2-2-2-2-2-2-2-2-2-2-2-2-2-2-2-2-2-2-2-2-2-2-2-2-2-2-2-2-2-2-2-2-2-2-2-2-2-2-2-2-2-2-2-2-2-7-2-2-2-2-2-2-2-2-2-2-2-2-2-2-2-2-2-79/
END:VEVENT
BEGIN:VEVENT
DTSTART;TZID=UTC:20260104T143000
DTEND;TZID=UTC:20260104T153000
DTSTAMP:20260426T034715
CREATED:20250519T134635Z
LAST-MODIFIED:20250519T134635Z
UID:2732-1767537000-1767540600@pinkstergemeentedeschone.nl
SUMMARY:Evangelische dienst
DESCRIPTION:
URL:https://pinkstergemeentedeschone.nl/evenement/evangelische-dienst-4-2-2-2-2-2-2-2-3-2-2-2-2-2-2-2-2-2-2-3-2-2-2-2-2-2-2-2-2-2-2-2-2-2-2-2-2-2-2-2-2-2-2-2-2-2-2-2-2-2-2-2-2-2-2-2-2-2-2-2-2-2-2-2-2-2-2-2-2-2-2-2-2-2-2-2-2-2-2-2-2-2-2-2-2-2-2-2-2-82/
END:VEVENT
BEGIN:VEVENT
DTSTART;TZID=UTC:20260105T200000
DTEND;TZID=UTC:20260105T213000
DTSTAMP:20260426T034715
CREATED:20250520T172646Z
LAST-MODIFIED:20250520T172646Z
UID:2846-1767643200-1767648600@pinkstergemeentedeschone.nl
SUMMARY:Bidstond
DESCRIPTION:
URL:https://pinkstergemeentedeschone.nl/evenement/bidstond-6-2-2-2-2-2-2-2-2-2-2-2-2-2-2-2-2-2-2-2-2-2-2-2-2-2-2-2-2-2-2-2-2-2-2-2-2-2-2-2-2-2-2-2-2-2-2-2-2-2-2-2-2-2-2-2-2-2-2-2-2-2-2-2-2-2-2-2-3-2-2-2-2-2-2-2-2-2-2-2-2-2-2-2-2-2-2-2-2-2-2-2-2-2-5-3/
END:VEVENT
BEGIN:VEVENT
DTSTART;TZID=UTC:20260109T193000
DTEND;TZID=UTC:20260109T210000
DTSTAMP:20260426T034715
CREATED:20250520T173018Z
LAST-MODIFIED:20250520T173018Z
UID:2862-1767987000-1767992400@pinkstergemeentedeschone.nl
SUMMARY:Bijbelstudie
DESCRIPTION:
URL:https://pinkstergemeentedeschone.nl/evenement/bijbelstudie-4-2-2-2-2-3-2-2-2-2-2-2-2-2-2-2-2-2-2-2-2-2-2-2-2-2-2-2-2-2-2-2-2-2-2-2-2-2-2-2-2-2-2-2-2-2-2-2-2-2-2-2-2-3-2-2-2-2-2-2-2-2-2-2-2-2-2-2-2-2-2-2-2-2-2-2-2-2-2-2-2-2-2-2-2-2-2-2-2-2-2-2-5-8/
END:VEVENT
BEGIN:VEVENT
DTSTART;TZID=UTC:20260110T120000
DTEND;TZID=UTC:20260110T170000
DTSTAMP:20260426T034715
CREATED:20250520T173734Z
LAST-MODIFIED:20250520T173734Z
UID:2880-1768046400-1768064400@pinkstergemeentedeschone.nl
SUMMARY:Evangelisatie
DESCRIPTION:
URL:https://pinkstergemeentedeschone.nl/evenement/evangelisatie-5-4-2-2-2-2-2-2-2-3-2-2-2-2-2-2-2-2-2-2-2-2-2-2-2-2-2-2-2-2-2-2-2-2-2-2-2-2-3-2-2-2-2-2-2-2-2-2-2-2-2-2-2-2-2-2-2-2-2-2-2-2-2-2-2-2-2-2-2-2-2-3-2-2-2-2-2-2-2-2-2-2-2-2-2-2-2-2-2-2-2-2-46/
END:VEVENT
BEGIN:VEVENT
DTSTART;TZID=UTC:20260111T123000
DTEND;TZID=UTC:20260111T133000
DTSTAMP:20260426T034715
CREATED:20250520T172353Z
LAST-MODIFIED:20250520T172353Z
UID:2832-1768134600-1768138200@pinkstergemeentedeschone.nl
SUMMARY:Zondagsschooldienst
DESCRIPTION:
URL:https://pinkstergemeentedeschone.nl/evenement/zondagsschooldienst-5-2-2-2-2-2-2-2-2-2-2-2-2-2-2-2-2-2-2-2-2-2-2-2-2-2-2-2-2-2-2-2-2-2-2-2-2-2-2-2-2-2-2-2-2-2-2-2-2-2-2-2-2-2-2-2-2-2-2-2-2-2-2-2-2-2-2-2-2-2-2-7-2-2-2-2-2-2-2-2-2-2-2-2-2-2-2-2-2-80/
END:VEVENT
BEGIN:VEVENT
DTSTART;TZID=UTC:20260111T143000
DTEND;TZID=UTC:20260111T153000
DTSTAMP:20260426T034715
CREATED:20250520T172053Z
LAST-MODIFIED:20250520T172053Z
UID:2816-1768141800-1768145400@pinkstergemeentedeschone.nl
SUMMARY:Evangelische dienst
DESCRIPTION:
URL:https://pinkstergemeentedeschone.nl/evenement/evangelische-dienst-4-2-2-2-2-2-2-2-3-2-2-2-2-2-2-2-2-2-2-3-2-2-2-2-2-2-2-2-2-2-2-2-2-2-2-2-2-2-2-2-2-2-2-2-2-2-2-2-2-2-2-2-2-2-2-2-2-2-2-2-2-2-2-2-2-2-2-2-2-2-2-2-2-2-2-2-2-2-2-2-2-2-2-2-2-2-2-2-2-83/
END:VEVENT
BEGIN:VEVENT
DTSTART;TZID=UTC:20260112T200000
DTEND;TZID=UTC:20260112T213000
DTSTAMP:20260426T034715
CREATED:20250520T172711Z
LAST-MODIFIED:20250520T172711Z
UID:2848-1768248000-1768253400@pinkstergemeentedeschone.nl
SUMMARY:Bidstond
DESCRIPTION:
URL:https://pinkstergemeentedeschone.nl/evenement/bidstond-6-2-2-2-2-2-2-2-2-2-2-2-2-2-2-2-2-2-2-2-2-2-2-2-2-2-2-2-2-2-2-2-2-2-2-2-2-2-2-2-2-2-2-2-2-2-2-2-2-2-2-2-2-2-2-2-2-2-2-2-2-2-2-2-2-2-2-2-3-2-2-2-2-2-2-2-2-2-2-2-2-2-2-2-2-2-2-2-2-2-2-2-2-2-5-4/
END:VEVENT
BEGIN:VEVENT
DTSTART;TZID=UTC:20260116T193000
DTEND;TZID=UTC:20260116T210000
DTSTAMP:20260426T034715
CREATED:20250520T173045Z
LAST-MODIFIED:20250520T173045Z
UID:2864-1768591800-1768597200@pinkstergemeentedeschone.nl
SUMMARY:Bijbelstudie
DESCRIPTION:
URL:https://pinkstergemeentedeschone.nl/evenement/bijbelstudie-4-2-2-2-2-3-2-2-2-2-2-2-2-2-2-2-2-2-2-2-2-2-2-2-2-2-2-2-2-2-2-2-2-2-2-2-2-2-2-2-2-2-2-2-2-2-2-2-2-2-2-2-2-3-2-2-2-2-2-2-2-2-2-2-2-2-2-2-2-2-2-2-2-2-2-2-2-2-2-2-2-2-2-2-2-2-2-2-2-2-2-2-5-9/
END:VEVENT
BEGIN:VEVENT
DTSTART;TZID=UTC:20260117T120000
DTEND;TZID=UTC:20260117T170000
DTSTAMP:20260426T034715
CREATED:20250520T173801Z
LAST-MODIFIED:20250520T173801Z
UID:2882-1768651200-1768669200@pinkstergemeentedeschone.nl
SUMMARY:Evangelisatie
DESCRIPTION:
URL:https://pinkstergemeentedeschone.nl/evenement/evangelisatie-5-4-2-2-2-2-2-2-2-3-2-2-2-2-2-2-2-2-2-2-2-2-2-2-2-2-2-2-2-2-2-2-2-2-2-2-2-2-3-2-2-2-2-2-2-2-2-2-2-2-2-2-2-2-2-2-2-2-2-2-2-2-2-2-2-2-2-2-2-2-2-3-2-2-2-2-2-2-2-2-2-2-2-2-2-2-2-2-2-2-2-2-47/
END:VEVENT
BEGIN:VEVENT
DTSTART;TZID=UTC:20260118T123000
DTEND;TZID=UTC:20260118T133000
DTSTAMP:20260426T034715
CREATED:20250520T172414Z
LAST-MODIFIED:20250520T172414Z
UID:2834-1768739400-1768743000@pinkstergemeentedeschone.nl
SUMMARY:Zondagsschooldienst
DESCRIPTION:
URL:https://pinkstergemeentedeschone.nl/evenement/zondagsschooldienst-5-2-2-2-2-2-2-2-2-2-2-2-2-2-2-2-2-2-2-2-2-2-2-2-2-2-2-2-2-2-2-2-2-2-2-2-2-2-2-2-2-2-2-2-2-2-2-2-2-2-2-2-2-2-2-2-2-2-2-2-2-2-2-2-2-2-2-2-2-2-2-7-2-2-2-2-2-2-2-2-2-2-2-2-2-2-2-2-2-81/
END:VEVENT
BEGIN:VEVENT
DTSTART;TZID=UTC:20260118T143000
DTEND;TZID=UTC:20260118T153000
DTSTAMP:20260426T034715
CREATED:20250520T172114Z
LAST-MODIFIED:20250520T172114Z
UID:2818-1768746600-1768750200@pinkstergemeentedeschone.nl
SUMMARY:Evangelische dienst
DESCRIPTION:
URL:https://pinkstergemeentedeschone.nl/evenement/evangelische-dienst-4-2-2-2-2-2-2-2-3-2-2-2-2-2-2-2-2-2-2-3-2-2-2-2-2-2-2-2-2-2-2-2-2-2-2-2-2-2-2-2-2-2-2-2-2-2-2-2-2-2-2-2-2-2-2-2-2-2-2-2-2-2-2-2-2-2-2-2-2-2-2-2-2-2-2-2-2-2-2-2-2-2-2-2-2-2-2-2-2-84/
END:VEVENT
BEGIN:VEVENT
DTSTART;TZID=UTC:20260119T200000
DTEND;TZID=UTC:20260119T213000
DTSTAMP:20260426T034715
CREATED:20250520T172736Z
LAST-MODIFIED:20250520T172736Z
UID:2850-1768852800-1768858200@pinkstergemeentedeschone.nl
SUMMARY:Bidstond
DESCRIPTION:
URL:https://pinkstergemeentedeschone.nl/evenement/bidstond-6-2-2-2-2-2-2-2-2-2-2-2-2-2-2-2-2-2-2-2-2-2-2-2-2-2-2-2-2-2-2-2-2-2-2-2-2-2-2-2-2-2-2-2-2-2-2-2-2-2-2-2-2-2-2-2-2-2-2-2-2-2-2-2-2-2-2-2-3-2-2-2-2-2-2-2-2-2-2-2-2-2-2-2-2-2-2-2-2-2-2-2-2-2-5-5/
END:VEVENT
BEGIN:VEVENT
DTSTART;TZID=UTC:20260123T193000
DTEND;TZID=UTC:20260123T210000
DTSTAMP:20260426T034715
CREATED:20250520T173258Z
LAST-MODIFIED:20250520T173258Z
UID:2867-1769196600-1769202000@pinkstergemeentedeschone.nl
SUMMARY:Bijbelstudie
DESCRIPTION:
URL:https://pinkstergemeentedeschone.nl/evenement/bijbelstudie-4-2-2-2-2-3-2-2-2-2-2-2-2-2-2-2-2-2-2-2-2-2-2-2-2-2-2-2-2-2-2-2-2-2-2-2-2-2-2-2-2-2-2-2-2-2-2-2-2-2-2-2-2-3-2-2-2-2-2-2-2-2-2-2-2-2-2-2-2-2-2-2-2-2-2-2-2-2-2-2-2-2-2-2-2-2-2-2-2-2-2-2-51/
END:VEVENT
BEGIN:VEVENT
DTSTART;TZID=UTC:20260124T120000
DTEND;TZID=UTC:20260124T170000
DTSTAMP:20260426T034715
CREATED:20250520T173832Z
LAST-MODIFIED:20250520T173832Z
UID:2884-1769256000-1769274000@pinkstergemeentedeschone.nl
SUMMARY:Evangelisatie
DESCRIPTION:
URL:https://pinkstergemeentedeschone.nl/evenement/evangelisatie-5-4-2-2-2-2-2-2-2-3-2-2-2-2-2-2-2-2-2-2-2-2-2-2-2-2-2-2-2-2-2-2-2-2-2-2-2-2-3-2-2-2-2-2-2-2-2-2-2-2-2-2-2-2-2-2-2-2-2-2-2-2-2-2-2-2-2-2-2-2-2-3-2-2-2-2-2-2-2-2-2-2-2-2-2-2-2-2-2-2-2-2-48/
END:VEVENT
BEGIN:VEVENT
DTSTART;TZID=UTC:20260125T123000
DTEND;TZID=UTC:20260125T133000
DTSTAMP:20260426T034715
CREATED:20250520T172438Z
LAST-MODIFIED:20250520T172438Z
UID:2836-1769344200-1769347800@pinkstergemeentedeschone.nl
SUMMARY:Zondagsschooldienst
DESCRIPTION:
URL:https://pinkstergemeentedeschone.nl/evenement/zondagsschooldienst-5-2-2-2-2-2-2-2-2-2-2-2-2-2-2-2-2-2-2-2-2-2-2-2-2-2-2-2-2-2-2-2-2-2-2-2-2-2-2-2-2-2-2-2-2-2-2-2-2-2-2-2-2-2-2-2-2-2-2-2-2-2-2-2-2-2-2-2-2-2-2-7-2-2-2-2-2-2-2-2-2-2-2-2-2-2-2-2-2-82/
END:VEVENT
BEGIN:VEVENT
DTSTART;TZID=UTC:20260125T143000
DTEND;TZID=UTC:20260125T153000
DTSTAMP:20260426T034715
CREATED:20250520T172141Z
LAST-MODIFIED:20250520T172141Z
UID:2820-1769351400-1769355000@pinkstergemeentedeschone.nl
SUMMARY:Evangelische dienst
DESCRIPTION:
URL:https://pinkstergemeentedeschone.nl/evenement/evangelische-dienst-4-2-2-2-2-2-2-2-3-2-2-2-2-2-2-2-2-2-2-3-2-2-2-2-2-2-2-2-2-2-2-2-2-2-2-2-2-2-2-2-2-2-2-2-2-2-2-2-2-2-2-2-2-2-2-2-2-2-2-2-2-2-2-2-2-2-2-2-2-2-2-2-2-2-2-2-2-2-2-2-2-2-2-2-2-2-2-2-2-85/
END:VEVENT
END:VCALENDAR