BEGIN:VCALENDAR
VERSION:2.0
PRODID:-//pinkstergemeentedeschone - ECPv6.15.20//NONSGML v1.0//EN
CALSCALE:GREGORIAN
METHOD:PUBLISH
X-WR-CALNAME:pinkstergemeentedeschone
X-ORIGINAL-URL:https://pinkstergemeentedeschone.nl
X-WR-CALDESC:Evenementen voor pinkstergemeentedeschone
REFRESH-INTERVAL;VALUE=DURATION:PT1H
X-Robots-Tag:noindex
X-PUBLISHED-TTL:PT1H
BEGIN:VTIMEZONE
TZID:UTC
BEGIN:STANDARD
TZOFFSETFROM:+0000
TZOFFSETTO:+0000
TZNAME:UTC
DTSTART:20250101T000000
END:STANDARD
END:VTIMEZONE
BEGIN:VEVENT
DTSTART;TZID=UTC:20260424T193000
DTEND;TZID=UTC:20260424T210000
DTSTAMP:20260425T134856
CREATED:20250521T170252Z
LAST-MODIFIED:20250521T170252Z
UID:3035-1777059000-1777064400@pinkstergemeentedeschone.nl
SUMMARY:Bijbelstudie
DESCRIPTION:
URL:https://pinkstergemeentedeschone.nl/evenement/bijbelstudie-4-2-2-2-2-3-2-2-2-2-2-2-2-2-2-2-2-2-2-2-2-2-2-2-2-2-2-2-2-2-2-2-2-2-2-2-2-2-2-2-2-2-2-2-2-2-2-2-2-2-2-2-2-3-2-2-2-2-2-2-2-2-2-2-2-2-2-2-2-2-2-2-2-2-2-2-2-2-2-2-2-2-2-2-2-2-2-2-2-2-2-2-6-6/
END:VEVENT
BEGIN:VEVENT
DTSTART;TZID=UTC:20260420T200000
DTEND;TZID=UTC:20260420T213000
DTSTAMP:20260425T134856
CREATED:20250521T171417Z
LAST-MODIFIED:20250521T171417Z
UID:3071-1776715200-1776720600@pinkstergemeentedeschone.nl
SUMMARY:Bidstond
DESCRIPTION:
URL:https://pinkstergemeentedeschone.nl/evenement/bidstond-6-2-2-2-2-2-2-2-2-2-2-2-2-2-2-2-2-2-2-2-2-2-2-2-2-2-2-2-2-2-2-2-2-2-2-2-2-2-2-2-2-2-2-2-2-2-2-2-2-2-2-2-2-2-2-2-2-2-2-2-2-2-2-2-2-2-2-2-3-2-2-2-2-2-2-2-2-2-2-2-2-2-2-2-2-2-2-2-2-2-2-2-2-2-59/
END:VEVENT
BEGIN:VEVENT
DTSTART;TZID=UTC:20260419T143000
DTEND;TZID=UTC:20260419T153000
DTSTAMP:20260425T134856
CREATED:20250521T164130Z
LAST-MODIFIED:20250521T164130Z
UID:2963-1776609000-1776612600@pinkstergemeentedeschone.nl
SUMMARY:Evangelische dienst
DESCRIPTION:
URL:https://pinkstergemeentedeschone.nl/evenement/evangelische-dienst-4-2-2-2-2-2-2-2-3-2-2-2-2-2-2-2-2-2-2-3-2-2-2-2-2-2-2-2-2-2-2-2-2-2-2-2-2-2-2-2-2-2-2-2-2-2-2-2-2-2-2-2-2-2-2-2-2-2-2-2-2-2-2-2-2-2-2-2-2-2-2-2-2-2-2-2-2-2-2-2-2-2-2-2-2-2-2-2-2-97/
END:VEVENT
BEGIN:VEVENT
DTSTART;TZID=UTC:20260419T123000
DTEND;TZID=UTC:20260419T133000
DTSTAMP:20260425T134856
CREATED:20250521T162028Z
LAST-MODIFIED:20250521T162028Z
UID:2925-1776601800-1776605400@pinkstergemeentedeschone.nl
SUMMARY:Zondagsschooldienst
DESCRIPTION:
URL:https://pinkstergemeentedeschone.nl/evenement/zondagsschooldienst-5-2-2-2-2-2-2-2-2-2-2-2-2-2-2-2-2-2-2-2-2-2-2-2-2-2-2-2-2-2-2-2-2-2-2-2-2-2-2-2-2-2-2-2-2-2-2-2-2-2-2-2-2-2-2-2-2-2-2-2-2-2-2-2-2-2-2-2-2-2-2-7-2-2-2-2-2-2-2-2-2-2-2-2-2-2-2-2-2-94/
END:VEVENT
BEGIN:VEVENT
DTSTART;TZID=UTC:20260418T120000
DTEND;TZID=UTC:20260418T170000
DTSTAMP:20260425T134856
CREATED:20250521T165239Z
LAST-MODIFIED:20250521T165239Z
UID:2997-1776513600-1776531600@pinkstergemeentedeschone.nl
SUMMARY:Evangelisatie
DESCRIPTION:
URL:https://pinkstergemeentedeschone.nl/evenement/evangelisatie-5-4-2-2-2-2-2-2-2-3-2-2-2-2-2-2-2-2-2-2-2-2-2-2-2-2-2-2-2-2-2-2-2-2-2-2-2-2-3-2-2-2-2-2-2-2-2-2-2-2-2-2-2-2-2-2-2-2-2-2-2-2-2-2-2-2-2-2-2-2-2-3-2-2-2-2-2-2-2-2-2-2-2-2-2-2-2-2-2-2-2-2-60/
END:VEVENT
BEGIN:VEVENT
DTSTART;TZID=UTC:20260417T193000
DTEND;TZID=UTC:20260417T210000
DTSTAMP:20260425T134856
CREATED:20250521T170222Z
LAST-MODIFIED:20250521T170222Z
UID:3033-1776454200-1776459600@pinkstergemeentedeschone.nl
SUMMARY:Bijbelstudie
DESCRIPTION:
URL:https://pinkstergemeentedeschone.nl/evenement/bijbelstudie-4-2-2-2-2-3-2-2-2-2-2-2-2-2-2-2-2-2-2-2-2-2-2-2-2-2-2-2-2-2-2-2-2-2-2-2-2-2-2-2-2-2-2-2-2-2-2-2-2-2-2-2-2-3-2-2-2-2-2-2-2-2-2-2-2-2-2-2-2-2-2-2-2-2-2-2-2-2-2-2-2-2-2-2-2-2-2-2-2-2-2-2-6-5/
END:VEVENT
BEGIN:VEVENT
DTSTART;TZID=UTC:20260413T200000
DTEND;TZID=UTC:20260413T213000
DTSTAMP:20260425T134856
CREATED:20250521T171348Z
LAST-MODIFIED:20250521T171348Z
UID:3069-1776110400-1776115800@pinkstergemeentedeschone.nl
SUMMARY:Bidstond
DESCRIPTION:
URL:https://pinkstergemeentedeschone.nl/evenement/bidstond-6-2-2-2-2-2-2-2-2-2-2-2-2-2-2-2-2-2-2-2-2-2-2-2-2-2-2-2-2-2-2-2-2-2-2-2-2-2-2-2-2-2-2-2-2-2-2-2-2-2-2-2-2-2-2-2-2-2-2-2-2-2-2-2-2-2-2-2-3-2-2-2-2-2-2-2-2-2-2-2-2-2-2-2-2-2-2-2-2-2-2-2-2-2-58/
END:VEVENT
BEGIN:VEVENT
DTSTART;TZID=UTC:20260412T143000
DTEND;TZID=UTC:20260412T153000
DTSTAMP:20260425T134856
CREATED:20250521T164102Z
LAST-MODIFIED:20250521T164102Z
UID:2961-1776004200-1776007800@pinkstergemeentedeschone.nl
SUMMARY:Evangelische dienst
DESCRIPTION:
URL:https://pinkstergemeentedeschone.nl/evenement/evangelische-dienst-4-2-2-2-2-2-2-2-3-2-2-2-2-2-2-2-2-2-2-3-2-2-2-2-2-2-2-2-2-2-2-2-2-2-2-2-2-2-2-2-2-2-2-2-2-2-2-2-2-2-2-2-2-2-2-2-2-2-2-2-2-2-2-2-2-2-2-2-2-2-2-2-2-2-2-2-2-2-2-2-2-2-2-2-2-2-2-2-2-96/
END:VEVENT
BEGIN:VEVENT
DTSTART;TZID=UTC:20260412T123000
DTEND;TZID=UTC:20260412T133000
DTSTAMP:20260425T134856
CREATED:20250521T162004Z
LAST-MODIFIED:20250521T162004Z
UID:2923-1775997000-1776000600@pinkstergemeentedeschone.nl
SUMMARY:Zondagsschooldienst
DESCRIPTION:
URL:https://pinkstergemeentedeschone.nl/evenement/zondagsschooldienst-5-2-2-2-2-2-2-2-2-2-2-2-2-2-2-2-2-2-2-2-2-2-2-2-2-2-2-2-2-2-2-2-2-2-2-2-2-2-2-2-2-2-2-2-2-2-2-2-2-2-2-2-2-2-2-2-2-2-2-2-2-2-2-2-2-2-2-2-2-2-2-7-2-2-2-2-2-2-2-2-2-2-2-2-2-2-2-2-2-93/
END:VEVENT
BEGIN:VEVENT
DTSTART;TZID=UTC:20260411T120000
DTEND;TZID=UTC:20260411T170000
DTSTAMP:20260425T134856
CREATED:20250521T165207Z
LAST-MODIFIED:20250521T165207Z
UID:2995-1775908800-1775926800@pinkstergemeentedeschone.nl
SUMMARY:Evangelisatie
DESCRIPTION:
URL:https://pinkstergemeentedeschone.nl/evenement/evangelisatie-5-4-2-2-2-2-2-2-2-3-2-2-2-2-2-2-2-2-2-2-2-2-2-2-2-2-2-2-2-2-2-2-2-2-2-2-2-2-3-2-2-2-2-2-2-2-2-2-2-2-2-2-2-2-2-2-2-2-2-2-2-2-2-2-2-2-2-2-2-2-2-3-2-2-2-2-2-2-2-2-2-2-2-2-2-2-2-2-2-2-2-2-59/
END:VEVENT
BEGIN:VEVENT
DTSTART;TZID=UTC:20260410T193000
DTEND;TZID=UTC:20260410T210000
DTSTAMP:20260425T134856
CREATED:20250521T170155Z
LAST-MODIFIED:20250521T170155Z
UID:3031-1775849400-1775854800@pinkstergemeentedeschone.nl
SUMMARY:Bijbelstudie
DESCRIPTION:
URL:https://pinkstergemeentedeschone.nl/evenement/bijbelstudie-4-2-2-2-2-3-2-2-2-2-2-2-2-2-2-2-2-2-2-2-2-2-2-2-2-2-2-2-2-2-2-2-2-2-2-2-2-2-2-2-2-2-2-2-2-2-2-2-2-2-2-2-2-3-2-2-2-2-2-2-2-2-2-2-2-2-2-2-2-2-2-2-2-2-2-2-2-2-2-2-2-2-2-2-2-2-2-2-2-2-2-2-6-4/
END:VEVENT
BEGIN:VEVENT
DTSTART;TZID=UTC:20260406T200000
DTEND;TZID=UTC:20260406T213000
DTSTAMP:20260425T134856
CREATED:20250521T171318Z
LAST-MODIFIED:20250521T171318Z
UID:3067-1775505600-1775511000@pinkstergemeentedeschone.nl
SUMMARY:Bidstond
DESCRIPTION:
URL:https://pinkstergemeentedeschone.nl/evenement/bidstond-6-2-2-2-2-2-2-2-2-2-2-2-2-2-2-2-2-2-2-2-2-2-2-2-2-2-2-2-2-2-2-2-2-2-2-2-2-2-2-2-2-2-2-2-2-2-2-2-2-2-2-2-2-2-2-2-2-2-2-2-2-2-2-2-2-2-2-2-3-2-2-2-2-2-2-2-2-2-2-2-2-2-2-2-2-2-2-2-2-2-2-2-2-2-57/
END:VEVENT
BEGIN:VEVENT
DTSTART;TZID=UTC:20260405T143000
DTEND;TZID=UTC:20260405T153000
DTSTAMP:20260425T134856
CREATED:20250521T164032Z
LAST-MODIFIED:20250521T164032Z
UID:2959-1775399400-1775403000@pinkstergemeentedeschone.nl
SUMMARY:Evangelische dienst
DESCRIPTION:
URL:https://pinkstergemeentedeschone.nl/evenement/evangelische-dienst-4-2-2-2-2-2-2-2-3-2-2-2-2-2-2-2-2-2-2-3-2-2-2-2-2-2-2-2-2-2-2-2-2-2-2-2-2-2-2-2-2-2-2-2-2-2-2-2-2-2-2-2-2-2-2-2-2-2-2-2-2-2-2-2-2-2-2-2-2-2-2-2-2-2-2-2-2-2-2-2-2-2-2-2-2-2-2-2-2-95/
END:VEVENT
BEGIN:VEVENT
DTSTART;TZID=UTC:20260405T123000
DTEND;TZID=UTC:20260405T133000
DTSTAMP:20260425T134856
CREATED:20250521T161944Z
LAST-MODIFIED:20250521T161944Z
UID:2921-1775392200-1775395800@pinkstergemeentedeschone.nl
SUMMARY:Zondagsschooldienst
DESCRIPTION:
URL:https://pinkstergemeentedeschone.nl/evenement/zondagsschooldienst-5-2-2-2-2-2-2-2-2-2-2-2-2-2-2-2-2-2-2-2-2-2-2-2-2-2-2-2-2-2-2-2-2-2-2-2-2-2-2-2-2-2-2-2-2-2-2-2-2-2-2-2-2-2-2-2-2-2-2-2-2-2-2-2-2-2-2-2-2-2-2-7-2-2-2-2-2-2-2-2-2-2-2-2-2-2-2-2-2-92/
END:VEVENT
BEGIN:VEVENT
DTSTART;TZID=UTC:20260404T120000
DTEND;TZID=UTC:20260404T170000
DTSTAMP:20260425T134856
CREATED:20250521T165137Z
LAST-MODIFIED:20250521T165137Z
UID:2993-1775304000-1775322000@pinkstergemeentedeschone.nl
SUMMARY:Evangelisatie
DESCRIPTION:
URL:https://pinkstergemeentedeschone.nl/evenement/evangelisatie-5-4-2-2-2-2-2-2-2-3-2-2-2-2-2-2-2-2-2-2-2-2-2-2-2-2-2-2-2-2-2-2-2-2-2-2-2-2-3-2-2-2-2-2-2-2-2-2-2-2-2-2-2-2-2-2-2-2-2-2-2-2-2-2-2-2-2-2-2-2-2-3-2-2-2-2-2-2-2-2-2-2-2-2-2-2-2-2-2-2-2-2-58/
END:VEVENT
BEGIN:VEVENT
DTSTART;TZID=UTC:20260403T193000
DTEND;TZID=UTC:20260403T210000
DTSTAMP:20260425T134856
CREATED:20250521T170112Z
LAST-MODIFIED:20250521T170112Z
UID:3029-1775244600-1775250000@pinkstergemeentedeschone.nl
SUMMARY:Bijbelstudie
DESCRIPTION:
URL:https://pinkstergemeentedeschone.nl/evenement/bijbelstudie-4-2-2-2-2-3-2-2-2-2-2-2-2-2-2-2-2-2-2-2-2-2-2-2-2-2-2-2-2-2-2-2-2-2-2-2-2-2-2-2-2-2-2-2-2-2-2-2-2-2-2-2-2-3-2-2-2-2-2-2-2-2-2-2-2-2-2-2-2-2-2-2-2-2-2-2-2-2-2-2-2-2-2-2-2-2-2-2-2-2-2-2-6-3/
END:VEVENT
BEGIN:VEVENT
DTSTART;TZID=UTC:20260330T200000
DTEND;TZID=UTC:20260330T213000
DTSTAMP:20260425T134856
CREATED:20250521T171243Z
LAST-MODIFIED:20250521T171243Z
UID:3065-1774900800-1774906200@pinkstergemeentedeschone.nl
SUMMARY:Bidstond
DESCRIPTION:
URL:https://pinkstergemeentedeschone.nl/evenement/bidstond-6-2-2-2-2-2-2-2-2-2-2-2-2-2-2-2-2-2-2-2-2-2-2-2-2-2-2-2-2-2-2-2-2-2-2-2-2-2-2-2-2-2-2-2-2-2-2-2-2-2-2-2-2-2-2-2-2-2-2-2-2-2-2-2-2-2-2-2-3-2-2-2-2-2-2-2-2-2-2-2-2-2-2-2-2-2-2-2-2-2-2-2-2-2-56/
END:VEVENT
BEGIN:VEVENT
DTSTART;TZID=UTC:20260329T143000
DTEND;TZID=UTC:20260329T153000
DTSTAMP:20260425T134856
CREATED:20250521T164002Z
LAST-MODIFIED:20250521T164002Z
UID:2957-1774794600-1774798200@pinkstergemeentedeschone.nl
SUMMARY:Evangelische dienst
DESCRIPTION:
URL:https://pinkstergemeentedeschone.nl/evenement/evangelische-dienst-4-2-2-2-2-2-2-2-3-2-2-2-2-2-2-2-2-2-2-3-2-2-2-2-2-2-2-2-2-2-2-2-2-2-2-2-2-2-2-2-2-2-2-2-2-2-2-2-2-2-2-2-2-2-2-2-2-2-2-2-2-2-2-2-2-2-2-2-2-2-2-2-2-2-2-2-2-2-2-2-2-2-2-2-2-2-2-2-2-94/
END:VEVENT
BEGIN:VEVENT
DTSTART;TZID=UTC:20260329T123000
DTEND;TZID=UTC:20260329T133000
DTSTAMP:20260425T134856
CREATED:20250521T161918Z
LAST-MODIFIED:20250521T161918Z
UID:2919-1774787400-1774791000@pinkstergemeentedeschone.nl
SUMMARY:Zondagsschooldienst
DESCRIPTION:
URL:https://pinkstergemeentedeschone.nl/evenement/zondagsschooldienst-5-2-2-2-2-2-2-2-2-2-2-2-2-2-2-2-2-2-2-2-2-2-2-2-2-2-2-2-2-2-2-2-2-2-2-2-2-2-2-2-2-2-2-2-2-2-2-2-2-2-2-2-2-2-2-2-2-2-2-2-2-2-2-2-2-2-2-2-2-2-2-7-2-2-2-2-2-2-2-2-2-2-2-2-2-2-2-2-2-91/
END:VEVENT
BEGIN:VEVENT
DTSTART;TZID=UTC:20260328T120000
DTEND;TZID=UTC:20260328T170000
DTSTAMP:20260425T134856
CREATED:20250521T165103Z
LAST-MODIFIED:20250521T165103Z
UID:2991-1774699200-1774717200@pinkstergemeentedeschone.nl
SUMMARY:Evangelisatie
DESCRIPTION:
URL:https://pinkstergemeentedeschone.nl/evenement/evangelisatie-5-4-2-2-2-2-2-2-2-3-2-2-2-2-2-2-2-2-2-2-2-2-2-2-2-2-2-2-2-2-2-2-2-2-2-2-2-2-3-2-2-2-2-2-2-2-2-2-2-2-2-2-2-2-2-2-2-2-2-2-2-2-2-2-2-2-2-2-2-2-2-3-2-2-2-2-2-2-2-2-2-2-2-2-2-2-2-2-2-2-2-2-57/
END:VEVENT
BEGIN:VEVENT
DTSTART;TZID=UTC:20260327T193000
DTEND;TZID=UTC:20260327T210000
DTSTAMP:20260425T134856
CREATED:20250521T170031Z
LAST-MODIFIED:20250521T170031Z
UID:3027-1774639800-1774645200@pinkstergemeentedeschone.nl
SUMMARY:Bijbelstudie
DESCRIPTION:
URL:https://pinkstergemeentedeschone.nl/evenement/bijbelstudie-4-2-2-2-2-3-2-2-2-2-2-2-2-2-2-2-2-2-2-2-2-2-2-2-2-2-2-2-2-2-2-2-2-2-2-2-2-2-2-2-2-2-2-2-2-2-2-2-2-2-2-2-2-3-2-2-2-2-2-2-2-2-2-2-2-2-2-2-2-2-2-2-2-2-2-2-2-2-2-2-2-2-2-2-2-2-2-2-2-2-2-2-6-2/
END:VEVENT
BEGIN:VEVENT
DTSTART;TZID=UTC:20260323T200000
DTEND;TZID=UTC:20260323T213000
DTSTAMP:20260425T134856
CREATED:20250521T171211Z
LAST-MODIFIED:20250521T171211Z
UID:3063-1774296000-1774301400@pinkstergemeentedeschone.nl
SUMMARY:Bidstond
DESCRIPTION:
URL:https://pinkstergemeentedeschone.nl/evenement/bidstond-6-2-2-2-2-2-2-2-2-2-2-2-2-2-2-2-2-2-2-2-2-2-2-2-2-2-2-2-2-2-2-2-2-2-2-2-2-2-2-2-2-2-2-2-2-2-2-2-2-2-2-2-2-2-2-2-2-2-2-2-2-2-2-2-2-2-2-2-3-2-2-2-2-2-2-2-2-2-2-2-2-2-2-2-2-2-2-2-2-2-2-2-2-2-55/
END:VEVENT
BEGIN:VEVENT
DTSTART;TZID=UTC:20260322T143000
DTEND;TZID=UTC:20260322T153000
DTSTAMP:20260425T134856
CREATED:20250521T163927Z
LAST-MODIFIED:20250521T163927Z
UID:2955-1774189800-1774193400@pinkstergemeentedeschone.nl
SUMMARY:Evangelische dienst
DESCRIPTION:
URL:https://pinkstergemeentedeschone.nl/evenement/evangelische-dienst-4-2-2-2-2-2-2-2-3-2-2-2-2-2-2-2-2-2-2-3-2-2-2-2-2-2-2-2-2-2-2-2-2-2-2-2-2-2-2-2-2-2-2-2-2-2-2-2-2-2-2-2-2-2-2-2-2-2-2-2-2-2-2-2-2-2-2-2-2-2-2-2-2-2-2-2-2-2-2-2-2-2-2-2-2-2-2-2-2-93/
END:VEVENT
BEGIN:VEVENT
DTSTART;TZID=UTC:20260322T123000
DTEND;TZID=UTC:20260322T133000
DTSTAMP:20260425T134856
CREATED:20250521T161850Z
LAST-MODIFIED:20250521T161850Z
UID:2917-1774182600-1774186200@pinkstergemeentedeschone.nl
SUMMARY:Zondagsschooldienst
DESCRIPTION:
URL:https://pinkstergemeentedeschone.nl/evenement/zondagsschooldienst-5-2-2-2-2-2-2-2-2-2-2-2-2-2-2-2-2-2-2-2-2-2-2-2-2-2-2-2-2-2-2-2-2-2-2-2-2-2-2-2-2-2-2-2-2-2-2-2-2-2-2-2-2-2-2-2-2-2-2-2-2-2-2-2-2-2-2-2-2-2-2-7-2-2-2-2-2-2-2-2-2-2-2-2-2-2-2-2-2-90/
END:VEVENT
BEGIN:VEVENT
DTSTART;TZID=UTC:20260321T120000
DTEND;TZID=UTC:20260321T170000
DTSTAMP:20260425T134856
CREATED:20250521T165001Z
LAST-MODIFIED:20250521T165001Z
UID:2989-1774094400-1774112400@pinkstergemeentedeschone.nl
SUMMARY:Evangelisatie
DESCRIPTION:
URL:https://pinkstergemeentedeschone.nl/evenement/evangelisatie-5-4-2-2-2-2-2-2-2-3-2-2-2-2-2-2-2-2-2-2-2-2-2-2-2-2-2-2-2-2-2-2-2-2-2-2-2-2-3-2-2-2-2-2-2-2-2-2-2-2-2-2-2-2-2-2-2-2-2-2-2-2-2-2-2-2-2-2-2-2-2-3-2-2-2-2-2-2-2-2-2-2-2-2-2-2-2-2-2-2-2-2-56/
END:VEVENT
BEGIN:VEVENT
DTSTART;TZID=UTC:20260320T193000
DTEND;TZID=UTC:20260320T210000
DTSTAMP:20260425T134856
CREATED:20250521T170001Z
LAST-MODIFIED:20250521T170001Z
UID:3025-1774035000-1774040400@pinkstergemeentedeschone.nl
SUMMARY:Bijbelstudie
DESCRIPTION:
URL:https://pinkstergemeentedeschone.nl/evenement/bijbelstudie-4-2-2-2-2-3-2-2-2-2-2-2-2-2-2-2-2-2-2-2-2-2-2-2-2-2-2-2-2-2-2-2-2-2-2-2-2-2-2-2-2-2-2-2-2-2-2-2-2-2-2-2-2-3-2-2-2-2-2-2-2-2-2-2-2-2-2-2-2-2-2-2-2-2-2-2-2-2-2-2-2-2-2-2-2-2-2-2-2-2-2-2-60/
END:VEVENT
BEGIN:VEVENT
DTSTART;TZID=UTC:20260316T200000
DTEND;TZID=UTC:20260316T213000
DTSTAMP:20260425T134856
CREATED:20250521T171135Z
LAST-MODIFIED:20250521T171135Z
UID:3061-1773691200-1773696600@pinkstergemeentedeschone.nl
SUMMARY:Bidstond
DESCRIPTION:
URL:https://pinkstergemeentedeschone.nl/evenement/bidstond-6-2-2-2-2-2-2-2-2-2-2-2-2-2-2-2-2-2-2-2-2-2-2-2-2-2-2-2-2-2-2-2-2-2-2-2-2-2-2-2-2-2-2-2-2-2-2-2-2-2-2-2-2-2-2-2-2-2-2-2-2-2-2-2-2-2-2-2-3-2-2-2-2-2-2-2-2-2-2-2-2-2-2-2-2-2-2-2-2-2-2-2-2-2-54/
END:VEVENT
BEGIN:VEVENT
DTSTART;TZID=UTC:20260315T143000
DTEND;TZID=UTC:20260315T153000
DTSTAMP:20260425T134856
CREATED:20250521T163825Z
LAST-MODIFIED:20250521T163825Z
UID:2951-1773585000-1773588600@pinkstergemeentedeschone.nl
SUMMARY:Evangelische dienst
DESCRIPTION:
URL:https://pinkstergemeentedeschone.nl/evenement/evangelische-dienst-4-2-2-2-2-2-2-2-3-2-2-2-2-2-2-2-2-2-2-3-2-2-2-2-2-2-2-2-2-2-2-2-2-2-2-2-2-2-2-2-2-2-2-2-2-2-2-2-2-2-2-2-2-2-2-2-2-2-2-2-2-2-2-2-2-2-2-2-2-2-2-2-2-2-2-2-2-2-2-2-2-2-2-2-2-2-2-2-2-92/
END:VEVENT
BEGIN:VEVENT
DTSTART;TZID=UTC:20260315T123000
DTEND;TZID=UTC:20260315T133000
DTSTAMP:20260425T134856
CREATED:20250521T161824Z
LAST-MODIFIED:20250521T161824Z
UID:2915-1773577800-1773581400@pinkstergemeentedeschone.nl
SUMMARY:Zondagsschooldienst
DESCRIPTION:
URL:https://pinkstergemeentedeschone.nl/evenement/zondagsschooldienst-5-2-2-2-2-2-2-2-2-2-2-2-2-2-2-2-2-2-2-2-2-2-2-2-2-2-2-2-2-2-2-2-2-2-2-2-2-2-2-2-2-2-2-2-2-2-2-2-2-2-2-2-2-2-2-2-2-2-2-2-2-2-2-2-2-2-2-2-2-2-2-7-2-2-2-2-2-2-2-2-2-2-2-2-2-2-2-2-2-89/
END:VEVENT
BEGIN:VEVENT
DTSTART;TZID=UTC:20260314T120000
DTEND;TZID=UTC:20260314T170000
DTSTAMP:20260425T134856
CREATED:20250521T164915Z
LAST-MODIFIED:20250521T164915Z
UID:2987-1773489600-1773507600@pinkstergemeentedeschone.nl
SUMMARY:Evangelisatie
DESCRIPTION:
URL:https://pinkstergemeentedeschone.nl/evenement/evangelisatie-5-4-2-2-2-2-2-2-2-3-2-2-2-2-2-2-2-2-2-2-2-2-2-2-2-2-2-2-2-2-2-2-2-2-2-2-2-2-3-2-2-2-2-2-2-2-2-2-2-2-2-2-2-2-2-2-2-2-2-2-2-2-2-2-2-2-2-2-2-2-2-3-2-2-2-2-2-2-2-2-2-2-2-2-2-2-2-2-2-2-2-2-55/
END:VEVENT
END:VCALENDAR