BEGIN:VCALENDAR
VERSION:2.0
PRODID:-//pinkstergemeentedeschone - ECPv6.15.20//NONSGML v1.0//EN
CALSCALE:GREGORIAN
METHOD:PUBLISH
X-WR-CALNAME:pinkstergemeentedeschone
X-ORIGINAL-URL:https://pinkstergemeentedeschone.nl
X-WR-CALDESC:Evenementen voor pinkstergemeentedeschone
REFRESH-INTERVAL;VALUE=DURATION:PT1H
X-Robots-Tag:noindex
X-PUBLISHED-TTL:PT1H
BEGIN:VTIMEZONE
TZID:UTC
BEGIN:STANDARD
TZOFFSETFROM:+0000
TZOFFSETTO:+0000
TZNAME:UTC
DTSTART:20250101T000000
END:STANDARD
END:VTIMEZONE
BEGIN:VEVENT
DTSTART;TZID=UTC:20260726T123000
DTEND;TZID=UTC:20260726T133000
DTSTAMP:20260425T191722
CREATED:20250609T144428Z
LAST-MODIFIED:20250609T144428Z
UID:3590-1785069000-1785072600@pinkstergemeentedeschone.nl
SUMMARY:Zondagsschooldienst
DESCRIPTION:
URL:https://pinkstergemeentedeschone.nl/evenement/zondagsschooldienst-5-2-2-2-2-2-2-2-2-2-2-2-2-2-2-2-2-2-2-2-2-2-2-2-2-2-2-2-2-2-2-2-2-2-2-2-2-2-2-2-2-2-2-2-2-2-2-2-2-2-2-2-2-2-2-2-2-2-2-2-2-2-2-2-2-2-2-2-2-2-2-7-2-2-2-2-2-2-2-2-2-2-2-2-2-2-2-2-10-8/
END:VEVENT
BEGIN:VEVENT
DTSTART;TZID=UTC:20260726T143000
DTEND;TZID=UTC:20260726T153000
DTSTAMP:20260425T191722
CREATED:20250609T145155Z
LAST-MODIFIED:20250609T145155Z
UID:3598-1785076200-1785079800@pinkstergemeentedeschone.nl
SUMMARY:Evangelische dienst
DESCRIPTION:
URL:https://pinkstergemeentedeschone.nl/evenement/evangelische-dienst-4-2-2-2-2-2-2-2-3-2-2-2-2-2-2-2-2-2-2-3-2-2-2-2-2-2-2-2-2-2-2-2-2-2-2-2-2-2-2-2-2-2-2-2-2-2-2-2-2-2-2-2-2-2-2-2-2-2-2-2-2-2-2-2-2-2-2-2-2-2-2-2-2-2-2-2-2-2-2-2-2-2-2-2-2-2-2-2-1-3/
END:VEVENT
END:VCALENDAR