BEGIN:VCALENDAR
VERSION:2.0
PRODID:-//pinkstergemeentedeschone - ECPv6.15.20//NONSGML v1.0//EN
CALSCALE:GREGORIAN
METHOD:PUBLISH
X-ORIGINAL-URL:https://pinkstergemeentedeschone.nl
X-WR-CALDESC:Evenementen voor pinkstergemeentedeschone
REFRESH-INTERVAL;VALUE=DURATION:PT1H
X-Robots-Tag:noindex
X-PUBLISHED-TTL:PT1H
BEGIN:VTIMEZONE
TZID:UTC
BEGIN:STANDARD
TZOFFSETFROM:+0000
TZOFFSETTO:+0000
TZNAME:UTC
DTSTART:20250101T000000
END:STANDARD
END:VTIMEZONE
BEGIN:VEVENT
DTSTART;TZID=UTC:20260322T123000
DTEND;TZID=UTC:20260322T133000
DTSTAMP:20260425T160211
CREATED:20250521T161850Z
LAST-MODIFIED:20250521T161850Z
UID:2917-1774182600-1774186200@pinkstergemeentedeschone.nl
SUMMARY:Zondagsschooldienst
DESCRIPTION:
URL:https://pinkstergemeentedeschone.nl/evenement/zondagsschooldienst-5-2-2-2-2-2-2-2-2-2-2-2-2-2-2-2-2-2-2-2-2-2-2-2-2-2-2-2-2-2-2-2-2-2-2-2-2-2-2-2-2-2-2-2-2-2-2-2-2-2-2-2-2-2-2-2-2-2-2-2-2-2-2-2-2-2-2-2-2-2-2-7-2-2-2-2-2-2-2-2-2-2-2-2-2-2-2-2-2-90/
END:VEVENT
BEGIN:VEVENT
DTSTART;TZID=UTC:20260322T143000
DTEND;TZID=UTC:20260322T153000
DTSTAMP:20260425T160211
CREATED:20250521T163927Z
LAST-MODIFIED:20250521T163927Z
UID:2955-1774189800-1774193400@pinkstergemeentedeschone.nl
SUMMARY:Evangelische dienst
DESCRIPTION:
URL:https://pinkstergemeentedeschone.nl/evenement/evangelische-dienst-4-2-2-2-2-2-2-2-3-2-2-2-2-2-2-2-2-2-2-3-2-2-2-2-2-2-2-2-2-2-2-2-2-2-2-2-2-2-2-2-2-2-2-2-2-2-2-2-2-2-2-2-2-2-2-2-2-2-2-2-2-2-2-2-2-2-2-2-2-2-2-2-2-2-2-2-2-2-2-2-2-2-2-2-2-2-2-2-2-93/
END:VEVENT
END:VCALENDAR