BEGIN:VCALENDAR
VERSION:2.0
PRODID:-//pinkstergemeentedeschone - ECPv6.15.20//NONSGML v1.0//EN
CALSCALE:GREGORIAN
METHOD:PUBLISH
X-ORIGINAL-URL:https://pinkstergemeentedeschone.nl
X-WR-CALDESC:Evenementen voor pinkstergemeentedeschone
REFRESH-INTERVAL;VALUE=DURATION:PT1H
X-Robots-Tag:noindex
X-PUBLISHED-TTL:PT1H
BEGIN:VTIMEZONE
TZID:UTC
BEGIN:STANDARD
TZOFFSETFROM:+0000
TZOFFSETTO:+0000
TZNAME:UTC
DTSTART:20240101T000000
END:STANDARD
END:VTIMEZONE
BEGIN:VEVENT
DTSTART;TZID=UTC:20251201T200000
DTEND;TZID=UTC:20251201T213000
DTSTAMP:20260426T002547
CREATED:20250519T142027Z
LAST-MODIFIED:20250519T142027Z
UID:2806-1764619200-1764624600@pinkstergemeentedeschone.nl
SUMMARY:Bidstond
DESCRIPTION:
URL:https://pinkstergemeentedeschone.nl/evenement/bidstond-6-2-2-2-2-2-2-2-2-2-2-2-2-2-2-2-2-2-2-2-2-2-2-2-2-2-2-2-2-2-2-2-2-2-2-2-2-2-2-2-2-2-2-2-2-2-2-2-2-2-2-2-2-2-2-2-2-2-2-2-2-2-2-2-2-2-2-2-3-2-2-2-2-2-2-2-2-2-2-2-2-2-2-2-2-2-2-2-2-2-2-2-2-2-47/
END:VEVENT
END:VCALENDAR